BEGIN:VCALENDAR
VERSION:2.0
PRODID:-//European School Karlsruhe - ECPv6.15.20//NONSGML v1.0//EN
CALSCALE:GREGORIAN
METHOD:PUBLISH
X-WR-CALNAME:European School Karlsruhe
X-ORIGINAL-URL:https://www.es-karlsruhe.eu
X-WR-CALDESC:Events for European School Karlsruhe
REFRESH-INTERVAL;VALUE=DURATION:PT1H
X-Robots-Tag:noindex
X-PUBLISHED-TTL:PT1H
BEGIN:VTIMEZONE
TZID:Europe/Berlin
BEGIN:DAYLIGHT
TZOFFSETFROM:+0100
TZOFFSETTO:+0200
TZNAME:CEST
DTSTART:20170326T010000
END:DAYLIGHT
BEGIN:STANDARD
TZOFFSETFROM:+0200
TZOFFSETTO:+0100
TZNAME:CET
DTSTART:20171029T010000
END:STANDARD
BEGIN:DAYLIGHT
TZOFFSETFROM:+0100
TZOFFSETTO:+0200
TZNAME:CEST
DTSTART:20180325T010000
END:DAYLIGHT
BEGIN:STANDARD
TZOFFSETFROM:+0200
TZOFFSETTO:+0100
TZNAME:CET
DTSTART:20181028T010000
END:STANDARD
BEGIN:DAYLIGHT
TZOFFSETFROM:+0100
TZOFFSETTO:+0200
TZNAME:CEST
DTSTART:20190331T010000
END:DAYLIGHT
BEGIN:STANDARD
TZOFFSETFROM:+0200
TZOFFSETTO:+0100
TZNAME:CET
DTSTART:20191027T010000
END:STANDARD
END:VTIMEZONE
BEGIN:VTIMEZONE
TZID:Europe/Paris
BEGIN:DAYLIGHT
TZOFFSETFROM:+0100
TZOFFSETTO:+0200
TZNAME:CEST
DTSTART:20170326T010000
END:DAYLIGHT
BEGIN:STANDARD
TZOFFSETFROM:+0200
TZOFFSETTO:+0100
TZNAME:CET
DTSTART:20171029T010000
END:STANDARD
BEGIN:DAYLIGHT
TZOFFSETFROM:+0100
TZOFFSETTO:+0200
TZNAME:CEST
DTSTART:20180325T010000
END:DAYLIGHT
BEGIN:STANDARD
TZOFFSETFROM:+0200
TZOFFSETTO:+0100
TZNAME:CET
DTSTART:20181028T010000
END:STANDARD
BEGIN:DAYLIGHT
TZOFFSETFROM:+0100
TZOFFSETTO:+0200
TZNAME:CEST
DTSTART:20190331T010000
END:DAYLIGHT
BEGIN:STANDARD
TZOFFSETFROM:+0200
TZOFFSETTO:+0100
TZNAME:CET
DTSTART:20191027T010000
END:STANDARD
END:VTIMEZONE
BEGIN:VEVENT
DTSTART;VALUE=DATE:20180122
DTEND;VALUE=DATE:20180203
DTSTAMP:20260423T080854
CREATED:20171206T133205Z
LAST-MODIFIED:20180201T144500Z
UID:3853-1516579200-1517615999@www.es-karlsruhe.eu
SUMMARY:S7 Prüfungen / exams / Prébac
DESCRIPTION:Download exam schedule \n  \n 
URL:https://www.es-karlsruhe.eu/event/s7-prufungen-exams-prebac/
CATEGORIES:Secondary
END:VEVENT
BEGIN:VEVENT
DTSTART;TZID=Europe/Berlin:20180201T190000
DTEND;TZID=Europe/Berlin:20180201T210000
DTSTAMP:20260423T080854
CREATED:20180115T092545Z
LAST-MODIFIED:20180119T124638Z
UID:4519-1517511600-1517518800@www.es-karlsruhe.eu
SUMMARY:SOIREE DES PARENTS - ELTERNABEND - PARENTS EVENING - 4es années
DESCRIPTION:
URL:https://www.es-karlsruhe.eu/event/soiree-des-parents-elternabend-parents-evening-4es-annees/
CATEGORIES:Primary
END:VEVENT
BEGIN:VEVENT
DTSTART;TZID=Europe/Paris:20180206T120000
DTEND;TZID=Europe/Paris:20180206T123000
DTSTAMP:20260423T080854
CREATED:20180205T124437Z
LAST-MODIFIED:20180205T125155Z
UID:7416-1517918400-1517920200@www.es-karlsruhe.eu
SUMMARY:Ecole maternelle - Ecole primaire
DESCRIPTION:Ecole maternelle – Ecole primaire
URL:https://www.es-karlsruhe.eu/event/7416/
LOCATION:ESKA
CATEGORIES:Nursery,Primary
END:VEVENT
BEGIN:VEVENT
DTSTART;VALUE=DATE:20180209
DTEND;VALUE=DATE:20180210
DTSTAMP:20260423T080854
CREATED:20171206T133207Z
LAST-MODIFIED:20180119T131625Z
UID:3855-1518134400-1518220799@www.es-karlsruhe.eu
SUMMARY:S7 Zeugnisse / Reports / Rapports
DESCRIPTION:
URL:https://www.es-karlsruhe.eu/event/s7-zeugnisse-reports-rapports/
CATEGORIES:Secondary
END:VEVENT
BEGIN:VEVENT
DTSTART;TZID=Europe/Berlin:20180209T090000
DTEND;TZID=Europe/Berlin:20180209T120000
DTSTAMP:20260423T080854
CREATED:20180115T092546Z
LAST-MODIFIED:20180119T124639Z
UID:4522-1518166800-1518177600@www.es-karlsruhe.eu
SUMMARY:FASCHING im KINDERGARTEN und GRUNDSCHULE
DESCRIPTION:
URL:https://www.es-karlsruhe.eu/event/fasching-im-kindergarten-und-grundschule/
LOCATION:ESKA
CATEGORIES:Primary
END:VEVENT
BEGIN:VEVENT
DTSTART;TZID=Europe/Berlin:20180209T110000
DTEND;TZID=Europe/Berlin:20180209T120000
DTSTAMP:20260423T080854
CREATED:20180115T092546Z
LAST-MODIFIED:20180119T124639Z
UID:4524-1518174000-1518177600@www.es-karlsruhe.eu
SUMMARY:DISTRIBUTION DES BULLETINS - ZEUGNISAUSGABE
DESCRIPTION:
URL:https://www.es-karlsruhe.eu/event/distribution-des-bulletins-zeugnis-ausgabe/
LOCATION:Grundschule ESKA
CATEGORIES:Primary
END:VEVENT
BEGIN:VEVENT
DTSTART;TZID=Europe/Berlin:20180226T180000
DTEND;TZID=Europe/Berlin:20180226T210000
DTSTAMP:20260423T080854
CREATED:20180115T143157Z
LAST-MODIFIED:20180119T124639Z
UID:4580-1519668000-1519678800@www.es-karlsruhe.eu
SUMMARY:INFO ABEND über SEXUAL EDUCATION
DESCRIPTION:
URL:https://www.es-karlsruhe.eu/event/info-abend-uber-sexual-education/
LOCATION:AULA – Verwaltungsgebäude
CATEGORIES:Primary
END:VEVENT
BEGIN:VEVENT
DTSTART;VALUE=DATE:20180227
DTEND;VALUE=DATE:20180228
DTSTAMP:20260423T080854
CREATED:20171206T133207Z
LAST-MODIFIED:20180119T131640Z
UID:3856-1519689600-1519775999@www.es-karlsruhe.eu
SUMMARY:Elternabend / Parents' Evening / Soirée de Parents
DESCRIPTION:
URL:https://www.es-karlsruhe.eu/event/elternabend-parents-evening-soiree-de-parents/
CATEGORIES:Secondary
END:VEVENT
END:VCALENDAR