BEGIN:VCALENDAR
VERSION:2.0
PRODID:-//European School Karlsruhe - ECPv6.15.20//NONSGML v1.0//EN
CALSCALE:GREGORIAN
METHOD:PUBLISH
X-ORIGINAL-URL:https://www.es-karlsruhe.eu
X-WR-CALDESC:Events for European School Karlsruhe
REFRESH-INTERVAL;VALUE=DURATION:PT1H
X-Robots-Tag:noindex
X-PUBLISHED-TTL:PT1H
BEGIN:VTIMEZONE
TZID:Europe/Paris
BEGIN:DAYLIGHT
TZOFFSETFROM:+0100
TZOFFSETTO:+0200
TZNAME:CEST
DTSTART:20170326T010000
END:DAYLIGHT
BEGIN:STANDARD
TZOFFSETFROM:+0200
TZOFFSETTO:+0100
TZNAME:CET
DTSTART:20171029T010000
END:STANDARD
BEGIN:DAYLIGHT
TZOFFSETFROM:+0100
TZOFFSETTO:+0200
TZNAME:CEST
DTSTART:20180325T010000
END:DAYLIGHT
BEGIN:STANDARD
TZOFFSETFROM:+0200
TZOFFSETTO:+0100
TZNAME:CET
DTSTART:20181028T010000
END:STANDARD
BEGIN:DAYLIGHT
TZOFFSETFROM:+0100
TZOFFSETTO:+0200
TZNAME:CEST
DTSTART:20190331T010000
END:DAYLIGHT
BEGIN:STANDARD
TZOFFSETFROM:+0200
TZOFFSETTO:+0100
TZNAME:CET
DTSTART:20191027T010000
END:STANDARD
END:VTIMEZONE
BEGIN:VTIMEZONE
TZID:Europe/Berlin
BEGIN:DAYLIGHT
TZOFFSETFROM:+0100
TZOFFSETTO:+0200
TZNAME:CEST
DTSTART:20170326T010000
END:DAYLIGHT
BEGIN:STANDARD
TZOFFSETFROM:+0200
TZOFFSETTO:+0100
TZNAME:CET
DTSTART:20171029T010000
END:STANDARD
BEGIN:DAYLIGHT
TZOFFSETFROM:+0100
TZOFFSETTO:+0200
TZNAME:CEST
DTSTART:20180325T010000
END:DAYLIGHT
BEGIN:STANDARD
TZOFFSETFROM:+0200
TZOFFSETTO:+0100
TZNAME:CET
DTSTART:20181028T010000
END:STANDARD
BEGIN:DAYLIGHT
TZOFFSETFROM:+0100
TZOFFSETTO:+0200
TZNAME:CEST
DTSTART:20190331T010000
END:DAYLIGHT
BEGIN:STANDARD
TZOFFSETFROM:+0200
TZOFFSETTO:+0100
TZNAME:CET
DTSTART:20191027T010000
END:STANDARD
END:VTIMEZONE
BEGIN:VEVENT
DTSTART;TZID=Europe/Paris:20180904T080000
DTEND;TZID=Europe/Paris:20180904T123000
DTSTAMP:20260422T212351
CREATED:20180831T113136Z
LAST-MODIFIED:20180831T113136Z
UID:23559-1536048000-1536064200@www.es-karlsruhe.eu
SUMMARY:1. SCHULTAG - DEBUT DE L'ANNEE SCOLAIRE - FIRST SCHOOL DAY 04.09.2019
DESCRIPTION:04.09.2018 : Kindergarten – Grundschule – Oberschule (außer neue Schüler von Kindergarten und 1. Klassen) \nBeginn : 8.05 h \nEnde : 12.15 h
URL:https://www.es-karlsruhe.eu/event/1-schultag-debut-de-lannee-scolaire-first-school-day-04-09-2019/
CATEGORIES:Nursery,Primary,Secondary
END:VEVENT
BEGIN:VEVENT
DTSTART;TZID=Europe/Paris:20180905T080000
DTEND;TZID=Europe/Paris:20180905T123000
DTSTAMP:20260422T212351
CREATED:20180831T114536Z
LAST-MODIFIED:20180831T114838Z
UID:23566-1536134400-1536150600@www.es-karlsruhe.eu
SUMMARY:05.09.2018 - 1. Kl.\, 1st cl.\, 1ère année : EINSCHULUNG - 1er JOUR DE CLASSE - FIRST  SCHOOL DAY
DESCRIPTION:05.09.2018 : 1st school day \n08.30 h :  Meeting point at the small apple orchard \n12.00 h : Children can be collected at the class room
URL:https://www.es-karlsruhe.eu/event/05-09-2018-1-kl-1st-cl-1ere-annee-einschulung-1er-jour-de-classe-first-school-day/
CATEGORIES:Primary
END:VEVENT
BEGIN:VEVENT
DTSTART;TZID=Europe/Paris:20180905T080000
DTEND;TZID=Europe/Paris:20180905T123000
DTSTAMP:20260422T212351
CREATED:20180831T123306Z
LAST-MODIFIED:20180831T123436Z
UID:23574-1536134400-1536150600@www.es-karlsruhe.eu
SUMMARY:05.09.2018 - rentrée-first school day-Schulbeginn :  pour les nouveaux de l'école maternelle\, New children Kindergarten\, neue Schüler Kindergarten
DESCRIPTION:Schulbeginn : 8.05 h \nSchulende : 12.15 h
URL:https://www.es-karlsruhe.eu/event/05-09-2018-rentree-first-school-day-schulbeginn-pour-les-nouveaux-de-lecole-maternelle-new-children-kindergarten-neue-schuler-kindergarten/
CATEGORIES:Nursery
END:VEVENT
BEGIN:VEVENT
DTSTART;TZID=Europe/Paris:20180905T080000
DTEND;TZID=Europe/Paris:20180905T130000
DTSTAMP:20260422T212351
CREATED:20180831T142405Z
LAST-MODIFIED:20180831T142442Z
UID:23624-1536134400-1536152400@www.es-karlsruhe.eu
SUMMARY:05.09.2018 - PHOTOGRAPHE - PHOTOGRAPH - PHOTOGRAPHER
DESCRIPTION:PHOTOGRAPHE – PHOTOGRAPH – PHOTOGRAPHER \nSERA PRESENT POUR FAIRE LES PHOTOS DE CLASSE DES 1ères et 2es \nMACHT DIE KLASSEN FOTOS VON DEN 1. + 2. \nWILL BE IN SCHOOL FOR CLASS 1 + 2
URL:https://www.es-karlsruhe.eu/event/05-09-2018-photographe-photograph-photographer/
CATEGORIES:Primary
END:VEVENT
BEGIN:VEVENT
DTSTART;TZID=Europe/Paris:20180906T080000
DTEND;TZID=Europe/Paris:20180906T153000
DTSTAMP:20260422T212351
CREATED:20180831T134603Z
LAST-MODIFIED:20180831T134613Z
UID:23600-1536220800-1536247800@www.es-karlsruhe.eu
SUMMARY:06.09.2018 : Normaler Schulbetrieb - Jour de classes habituel -  Normal lessons
DESCRIPTION:Schule von 08.05 bis 15.35 Uhr
URL:https://www.es-karlsruhe.eu/event/06-09-2018-normaler-schulbetrieb-jour-de-classes-habituel-normal-lessons/
CATEGORIES:Nursery,Primary
END:VEVENT
BEGIN:VEVENT
DTSTART;TZID=Europe/Paris:20180906T080000
DTEND;TZID=Europe/Paris:20180906T160000
DTSTAMP:20260422T212351
CREATED:20180831T143919Z
LAST-MODIFIED:20180831T145118Z
UID:23630-1536220800-1536249600@www.es-karlsruhe.eu
SUMMARY:06.09.2018 : PHOTOGRAPHE - FOTOGRAPH -
DESCRIPTION:PHOTOGRAPHE – FOTOGRAPH – \nSERA à l’ECOLE POUR LES PHOTOS DE CLASSES DES 3\, 4\, 5. \nMACHT DIE KLASSENFOTOS der 3.\, 4. und 5. \nWILL BE IN SCHOOL FOR CLASS 3\, 4 and 5.
URL:https://www.es-karlsruhe.eu/event/06-09-2018-photographe-fotograph/
CATEGORIES:Primary
END:VEVENT
BEGIN:VEVENT
DTSTART;TZID=Europe/Paris:20180907T080000
DTEND;TZID=Europe/Paris:20180907T123000
DTSTAMP:20260422T212351
CREATED:20180831T140142Z
LAST-MODIFIED:20180831T140212Z
UID:23616-1536307200-1536323400@www.es-karlsruhe.eu
SUMMARY:07.09.2018 : Normaler Schulbetrieb - normal lessons - journée normale
DESCRIPTION:Début : 08.05 h \nFin : 12.15 h
URL:https://www.es-karlsruhe.eu/event/07-09-2018-normaler-schulbetrieb-normal-lessons-journee-normale/
CATEGORIES:Nursery,Primary
END:VEVENT
BEGIN:VEVENT
DTSTART;TZID=Europe/Paris:20180910T190000
DTEND;TZID=Europe/Paris:20180910T200000
DTSTAMP:20260422T212351
CREATED:20180831T104217Z
LAST-MODIFIED:20180831T112021Z
UID:23507-1536606000-1536609600@www.es-karlsruhe.eu
SUMMARY:ELTERNABENDE - SOIREE DES PARENTS - PARENTS EVENING - Kindergarten
DESCRIPTION:10.09.2018 um 19.00 h – Kindergarten – Maternelle – \n 
URL:https://www.es-karlsruhe.eu/event/elternabende-soiree-des-parents-parents-evening/
CATEGORIES:Nursery
END:VEVENT
BEGIN:VEVENT
DTSTART;TZID=Europe/Paris:20180911T190000
DTEND;TZID=Europe/Paris:20180911T200000
DTSTAMP:20260422T212351
CREATED:20180831T105213Z
LAST-MODIFIED:20180831T112129Z
UID:23517-1536692400-1536696000@www.es-karlsruhe.eu
SUMMARY:ELTERNABENDE - SOIREE DES PARENTS - PARENTS EVENING - 1. Klassen
DESCRIPTION:1st class\, 1. Klasse\, 1ère année \n11.09.2018 at\, um\, à 19.00 h.
URL:https://www.es-karlsruhe.eu/event/elternabende-soiree-des-parents-parents-evening-2/
CATEGORIES:Primary
END:VEVENT
BEGIN:VEVENT
DTSTART;TZID=Europe/Paris:20180912T190000
DTEND;TZID=Europe/Paris:20180912T200000
DTSTAMP:20260422T212351
CREATED:20180831T105845Z
LAST-MODIFIED:20180831T110109Z
UID:23524-1536778800-1536782400@www.es-karlsruhe.eu
SUMMARY:ELTERNABENDE - SOIREE DES PARENTS - PARENTS EVENING - 2. Klassen
DESCRIPTION:2nd class\, 2. Klasse\, 2ème année \n12.09.2018 at\, um\, à 19.00 h.
URL:https://www.es-karlsruhe.eu/event/elternabende-soiree-des-parents-parents-evening-2-klassen/
CATEGORIES:Primary
END:VEVENT
BEGIN:VEVENT
DTSTART;TZID=Europe/Paris:20180913T190000
DTEND;TZID=Europe/Paris:20180913T200000
DTSTAMP:20260422T212351
CREATED:20180831T110927Z
LAST-MODIFIED:20180831T111009Z
UID:23542-1536865200-1536868800@www.es-karlsruhe.eu
SUMMARY:ELTERNABENDE – SOIREE DES PARENTS – PARENTS EVENING - 4. Klassen
DESCRIPTION:4th class\, 4. Klasse\, 4e année \n13.09.2018 at\, um\, à 19.00 h.
URL:https://www.es-karlsruhe.eu/event/elternabende-soiree-des-parents-parents-evening-4-klassen/
CATEGORIES:Primary
END:VEVENT
BEGIN:VEVENT
DTSTART;TZID=Europe/Paris:20180917T190000
DTEND;TZID=Europe/Paris:20180917T200000
DTSTAMP:20260422T212351
CREATED:20180831T110410Z
LAST-MODIFIED:20180831T110605Z
UID:23531-1537210800-1537214400@www.es-karlsruhe.eu
SUMMARY:ELTERNABENDE – SOIREE DES PARENTS – PARENTS EVENING - 3. Klassen
DESCRIPTION:3rd class\, 3. Klasse\, 3ème année \n17.09.2018 at\, um\, à 19.00 h.
URL:https://www.es-karlsruhe.eu/event/elternabende-soiree-des-parents-parents-evening-3-klassen/
CATEGORIES:Primary
END:VEVENT
BEGIN:VEVENT
DTSTART;TZID=Europe/Paris:20180918T190000
DTEND;TZID=Europe/Paris:20180918T200000
DTSTAMP:20260422T212351
CREATED:20180831T111319Z
LAST-MODIFIED:20180831T111337Z
UID:23546-1537297200-1537300800@www.es-karlsruhe.eu
SUMMARY:ELTERNABENDE – SOIREE DES PARENTS – PARENTS EVENING - 5. Klassen
DESCRIPTION:5th class\, 5. Klasse\, 5ème année \n18.09.2018 at\, um\, à 19.00 h.
URL:https://www.es-karlsruhe.eu/event/elternabende-soiree-des-parents-parents-evening-5-klassen/
CATEGORIES:Primary
END:VEVENT
BEGIN:VEVENT
DTSTART;TZID=Europe/Berlin:20180926T183000
DTEND;TZID=Europe/Berlin:20180926T213000
DTSTAMP:20260422T212351
CREATED:20180926T120223Z
LAST-MODIFIED:20180926T235655Z
UID:24520-1537986600-1537997400@www.es-karlsruhe.eu
SUMMARY:Elternabend/Parents´ Evening/Soirée de parents
DESCRIPTION:
URL:https://www.es-karlsruhe.eu/event/elternabend-parents-evening-soiree-de-parents-3/
CATEGORIES:Secondary
END:VEVENT
BEGIN:VEVENT
DTSTART;TZID=Europe/Berlin:20180927T183000
DTEND;TZID=Europe/Berlin:20180927T213000
DTSTAMP:20260422T212351
CREATED:20180926T120223Z
LAST-MODIFIED:20180927T232704Z
UID:24521-1538073000-1538083800@www.es-karlsruhe.eu
SUMMARY:Elternabend/Parents´ Evening/Soirée de parents
DESCRIPTION:
URL:https://www.es-karlsruhe.eu/event/elternabend-parents-evening-soiree-de-parents-4/
CATEGORIES:Secondary
END:VEVENT
END:VCALENDAR