BEGIN:VCALENDAR
VERSION:2.0
PRODID:-//European School Karlsruhe - ECPv6.15.20//NONSGML v1.0//EN
CALSCALE:GREGORIAN
METHOD:PUBLISH
X-WR-CALNAME:European School Karlsruhe
X-ORIGINAL-URL:https://www.es-karlsruhe.eu
X-WR-CALDESC:Events for European School Karlsruhe
REFRESH-INTERVAL;VALUE=DURATION:PT1H
X-Robots-Tag:noindex
X-PUBLISHED-TTL:PT1H
BEGIN:VTIMEZONE
TZID:Europe/Paris
BEGIN:DAYLIGHT
TZOFFSETFROM:+0100
TZOFFSETTO:+0200
TZNAME:CEST
DTSTART:20170326T010000
END:DAYLIGHT
BEGIN:STANDARD
TZOFFSETFROM:+0200
TZOFFSETTO:+0100
TZNAME:CET
DTSTART:20171029T010000
END:STANDARD
BEGIN:DAYLIGHT
TZOFFSETFROM:+0100
TZOFFSETTO:+0200
TZNAME:CEST
DTSTART:20180325T010000
END:DAYLIGHT
BEGIN:STANDARD
TZOFFSETFROM:+0200
TZOFFSETTO:+0100
TZNAME:CET
DTSTART:20181028T010000
END:STANDARD
BEGIN:DAYLIGHT
TZOFFSETFROM:+0100
TZOFFSETTO:+0200
TZNAME:CEST
DTSTART:20190331T010000
END:DAYLIGHT
BEGIN:STANDARD
TZOFFSETFROM:+0200
TZOFFSETTO:+0100
TZNAME:CET
DTSTART:20191027T010000
END:STANDARD
END:VTIMEZONE
BEGIN:VTIMEZONE
TZID:Europe/Berlin
BEGIN:DAYLIGHT
TZOFFSETFROM:+0100
TZOFFSETTO:+0200
TZNAME:CEST
DTSTART:20170326T010000
END:DAYLIGHT
BEGIN:STANDARD
TZOFFSETFROM:+0200
TZOFFSETTO:+0100
TZNAME:CET
DTSTART:20171029T010000
END:STANDARD
BEGIN:DAYLIGHT
TZOFFSETFROM:+0100
TZOFFSETTO:+0200
TZNAME:CEST
DTSTART:20180325T010000
END:DAYLIGHT
BEGIN:STANDARD
TZOFFSETFROM:+0200
TZOFFSETTO:+0100
TZNAME:CET
DTSTART:20181028T010000
END:STANDARD
BEGIN:DAYLIGHT
TZOFFSETFROM:+0100
TZOFFSETTO:+0200
TZNAME:CEST
DTSTART:20190331T010000
END:DAYLIGHT
BEGIN:STANDARD
TZOFFSETFROM:+0200
TZOFFSETTO:+0100
TZNAME:CET
DTSTART:20191027T010000
END:STANDARD
END:VTIMEZONE
BEGIN:VEVENT
DTSTART;TZID=Europe/Paris:20181203T163000
DTEND;TZID=Europe/Paris:20181203T190000
DTSTAMP:20260422T164944
CREATED:20180831T130640Z
LAST-MODIFIED:20180831T130640Z
UID:23586-1543854600-1543863600@www.es-karlsruhe.eu
SUMMARY:03.12.2018 - 3/4/5 : Concert de Noel - Weihnachtskonzert - Christmas Party
DESCRIPTION:Am 03.12.2018 findet um 16.30 Uhr das Weihnachtskonzert für die 3.\, 4. und 5. Klassen statt. \nLe 03.12.2018 aura lieu  à 16.30 h  le concert de Noel pour les classes 3\, 4 et 5. \nThe Christmas concert will be held on 03.12.2018 at 16.30 h for classes 3\, 4 and 5.
URL:https://www.es-karlsruhe.eu/event/03-12-2018-3-4-5-concert-de-noel-weihnachtskonzert-christmas-party/
CATEGORIES:Nursery,Primary
END:VEVENT
BEGIN:VEVENT
DTSTART;TZID=Europe/Paris:20181204T163000
DTEND;TZID=Europe/Paris:20181204T200000
DTSTAMP:20260422T164944
CREATED:20180831T131626Z
LAST-MODIFIED:20180831T131701Z
UID:23596-1543941000-1543953600@www.es-karlsruhe.eu
SUMMARY:04.12.2018 - classes\, Klassen\, classes 1 + 2 - Fête de Noel\, Weihnachtskonzert\, Christmas Party
DESCRIPTION:Am 04.12.2018 findet um 16.30 Uhr das Weihnachtskonzert für die  Klassen 1 und 2 statt. \nLe 04.12.2018 aura lieu  à 16.30 h  le concert de Noel pour les classes 1 et 2. \nThe Christmas concert will be held on 04.12.2018 at 16.30 h for classes 1 and .
URL:https://www.es-karlsruhe.eu/event/04-12-2018-classes-klassen-classes-1-2-fete-de-noel-weihnachtskonzert-christmas-party/
CATEGORIES:Nursery,Primary
END:VEVENT
BEGIN:VEVENT
DTSTART;TZID=Europe/Paris:20181205T080000
DTEND;TZID=Europe/Paris:20181205T100000
DTSTAMP:20260422T164944
CREATED:20181126T091146Z
LAST-MODIFIED:20181129T130756Z
UID:29161-1543996800-1544004000@www.es-karlsruhe.eu
SUMMARY:St. Nicolas
DESCRIPTION:St. Nicolas is visiting our school.
URL:https://www.es-karlsruhe.eu/event/nikolaus/
CATEGORIES:Nursery,Primary
END:VEVENT
BEGIN:VEVENT
DTSTART;VALUE=DATE:20181212
DTEND;VALUE=DATE:20181213
DTSTAMP:20260422T164944
CREATED:20180926T141200Z
LAST-MODIFIED:20181212T231207Z
UID:24544-1544572800-1544659199@www.es-karlsruhe.eu
SUMMARY:S5 Freier Tag / S5 Revision Day
DESCRIPTION:
URL:https://www.es-karlsruhe.eu/event/s5-freier-tag-s5-revision-day/
CATEGORIES:Secondary
END:VEVENT
BEGIN:VEVENT
DTSTART;VALUE=DATE:20181213
DTEND;VALUE=DATE:20181221
DTSTAMP:20260422T164944
CREATED:20180926T141200Z
LAST-MODIFIED:20181220T231300Z
UID:24545-1544659200-1545350399@www.es-karlsruhe.eu
SUMMARY:S5 Semesterprüfungen / S5 Semester exams
DESCRIPTION:
URL:https://www.es-karlsruhe.eu/event/s5-semesterprufungen-s5-semester-exams/
CATEGORIES:Secondary
END:VEVENT
BEGIN:VEVENT
DTSTART;TZID=Europe/Paris:20181213T080000
DTEND;TZID=Europe/Paris:20181213T100000
DTSTAMP:20260422T164944
CREATED:20181126T121656Z
LAST-MODIFIED:20181126T121656Z
UID:29195-1544688000-1544695200@www.es-karlsruhe.eu
SUMMARY:Santa Lucia
DESCRIPTION:a procession of light celebrated in Sweden.
URL:https://www.es-karlsruhe.eu/event/santa-lucia/
CATEGORIES:Nursery,Primary
END:VEVENT
BEGIN:VEVENT
DTSTART;TZID=Europe/Paris:20181218T080000
DTEND;TZID=Europe/Paris:20181218T153000
DTSTAMP:20260422T164944
CREATED:20181126T114520Z
LAST-MODIFIED:20181126T114520Z
UID:29179-1545120000-1545147000@www.es-karlsruhe.eu
SUMMARY:WINTER SPORTS DAY
DESCRIPTION:Ice skating in Pforzheim.
URL:https://www.es-karlsruhe.eu/event/winter-sports-day/
CATEGORIES:Primary
END:VEVENT
BEGIN:VEVENT
DTSTART;TZID=Europe/Paris:20181220T193000
DTEND;TZID=Europe/Paris:20181220T210000
DTSTAMP:20260422T164944
CREATED:20181210T094355Z
LAST-MODIFIED:20181210T095802Z
UID:30339-1545334200-1545339600@www.es-karlsruhe.eu
SUMMARY:Christmas concert in the "Kleine Kirche Karlsruhe"
DESCRIPTION:Participants: \nClass of wind instruments S1\nClass of wind instruments S2\nClass of wind instruments S3 \nChoir of the Secondary\nChoir of the Primary \nKaiserstraße 131\, 76133 Karlsruhe\, near Marktplatz\, \nDuration: 1h15
URL:https://www.es-karlsruhe.eu/event/weihnachtskonzert-in-der-kleinen-kirche-karlsruhe/
CATEGORIES:Nursery,Primary,Secondary
END:VEVENT
END:VCALENDAR