BEGIN:VCALENDAR
VERSION:2.0
PRODID:-//European School Karlsruhe - ECPv6.15.20//NONSGML v1.0//EN
CALSCALE:GREGORIAN
METHOD:PUBLISH
X-ORIGINAL-URL:https://www.es-karlsruhe.eu/de/
X-WR-CALDESC:Veranstaltungen für European School Karlsruhe
REFRESH-INTERVAL;VALUE=DURATION:PT1H
X-Robots-Tag:noindex
X-PUBLISHED-TTL:PT1H
BEGIN:VTIMEZONE
TZID:Europe/Paris
BEGIN:DAYLIGHT
TZOFFSETFROM:+0100
TZOFFSETTO:+0200
TZNAME:CEST
DTSTART:20180325T010000
END:DAYLIGHT
BEGIN:STANDARD
TZOFFSETFROM:+0200
TZOFFSETTO:+0100
TZNAME:CET
DTSTART:20181028T010000
END:STANDARD
BEGIN:DAYLIGHT
TZOFFSETFROM:+0100
TZOFFSETTO:+0200
TZNAME:CEST
DTSTART:20190331T010000
END:DAYLIGHT
BEGIN:STANDARD
TZOFFSETFROM:+0200
TZOFFSETTO:+0100
TZNAME:CET
DTSTART:20191027T010000
END:STANDARD
BEGIN:DAYLIGHT
TZOFFSETFROM:+0100
TZOFFSETTO:+0200
TZNAME:CEST
DTSTART:20200329T010000
END:DAYLIGHT
BEGIN:STANDARD
TZOFFSETFROM:+0200
TZOFFSETTO:+0100
TZNAME:CET
DTSTART:20201025T010000
END:STANDARD
END:VTIMEZONE
BEGIN:VTIMEZONE
TZID:Europe/Berlin
BEGIN:DAYLIGHT
TZOFFSETFROM:+0100
TZOFFSETTO:+0200
TZNAME:CEST
DTSTART:20180325T010000
END:DAYLIGHT
BEGIN:STANDARD
TZOFFSETFROM:+0200
TZOFFSETTO:+0100
TZNAME:CET
DTSTART:20181028T010000
END:STANDARD
BEGIN:DAYLIGHT
TZOFFSETFROM:+0100
TZOFFSETTO:+0200
TZNAME:CEST
DTSTART:20190331T010000
END:DAYLIGHT
BEGIN:STANDARD
TZOFFSETFROM:+0200
TZOFFSETTO:+0100
TZNAME:CET
DTSTART:20191027T010000
END:STANDARD
BEGIN:DAYLIGHT
TZOFFSETFROM:+0100
TZOFFSETTO:+0200
TZNAME:CEST
DTSTART:20200329T010000
END:DAYLIGHT
BEGIN:STANDARD
TZOFFSETFROM:+0200
TZOFFSETTO:+0100
TZNAME:CET
DTSTART:20201025T010000
END:STANDARD
END:VTIMEZONE
BEGIN:VEVENT
DTSTART;VALUE=DATE:20191104
DTEND;VALUE=DATE:20191105
DTSTAMP:20260426T054249
CREATED:20190704T135757Z
LAST-MODIFIED:20190704T135757Z
UID:50858-1572825600-1572911999@www.es-karlsruhe.eu
SUMMARY:Pädagogischer Tag/Pedagogical Day/Journée pédagogique
DESCRIPTION:
URL:https://www.es-karlsruhe.eu/de/event/paedagogischer-tag-pedagogical-day-journee-pedagogique/
END:VEVENT
BEGIN:VEVENT
DTSTART;VALUE=DATE:20191104
DTEND;VALUE=DATE:20191105
DTSTAMP:20260426T054249
CREATED:20190828T073645Z
LAST-MODIFIED:20191023T190134Z
UID:55259-1572825600-1572911999@www.es-karlsruhe.eu
SUMMARY:Pädagogischer Tag
DESCRIPTION:
URL:https://www.es-karlsruhe.eu/de/event/padagogischer-tag/
CATEGORIES:Oberschule
END:VEVENT
BEGIN:VEVENT
DTSTART;TZID=Europe/Paris:20191104T080000
DTEND;TZID=Europe/Paris:20191104T170000
DTSTAMP:20260426T054249
CREATED:20191008T091659Z
LAST-MODIFIED:20191008T091659Z
UID:60280-1572854400-1572886800@www.es-karlsruhe.eu
SUMMARY:PÄDAGOGISCHER TAG
DESCRIPTION:Am 4.11.2019 findet der Pädagogische Tag statt\, d.h. keine Schule an diesem Tag.
URL:https://www.es-karlsruhe.eu/de/event/paedagogischer-tag/
CATEGORIES:Grundschule,Kindergarten
END:VEVENT
BEGIN:VEVENT
DTSTART;TZID=Europe/Paris:20191111T080000
DTEND;TZID=Europe/Paris:20191111T183000
DTSTAMP:20260426T054249
CREATED:20191007T152551Z
LAST-MODIFIED:20191007T152551Z
UID:60187-1573459200-1573497000@www.es-karlsruhe.eu
SUMMARY:32. Schüler-Schwimm-Meisterschaften im Fächerad
DESCRIPTION:Schüler-Schwimm-Meisterschaften will be held on 11.11-2019
URL:https://www.es-karlsruhe.eu/de/event/32-schuler-schwimm-meisterschaften-im-facherad/
CATEGORIES:Grundschule
END:VEVENT
BEGIN:VEVENT
DTSTART;TZID=Europe/Paris:20191111T090000
DTEND;TZID=Europe/Paris:20191111T170000
DTSTAMP:20260426T054249
CREATED:20191007T151744Z
LAST-MODIFIED:20191007T151744Z
UID:60179-1573462800-1573491600@www.es-karlsruhe.eu
SUMMARY:32. Schüler Schwimm Meisterschaften
DESCRIPTION:am 11. November finden die Schüler Schwimm Meisterschaften im Fächerbad statt.
URL:https://www.es-karlsruhe.eu/de/event/32-schueler-schwimm-meisterschaften/
CATEGORIES:Grundschule
END:VEVENT
BEGIN:VEVENT
DTSTART;TZID=Europe/Paris:20191112T080000
DTEND;TZID=Europe/Paris:20191112T150000
DTSTAMP:20260426T054249
CREATED:20191104T145711Z
LAST-MODIFIED:20191105T143414Z
UID:62226-1573545600-1573570800@www.es-karlsruhe.eu
SUMMARY:Klasse 4Db - Besuch der  Glasbläserei "Glashalm"
DESCRIPTION:Am 12.11.219  besucht die Klasse 4Db eine Glasbläserei in Linkenheim-Hochstetten.
URL:https://www.es-karlsruhe.eu/de/event/besuch-einer-glasblaeserei/
CATEGORIES:Grundschule
END:VEVENT
BEGIN:VEVENT
DTSTART;TZID=Europe/Paris:20191112T080000
DTEND;TZID=Europe/Paris:20191112T160000
DTSTAMP:20260426T054249
CREATED:20191008T085611Z
LAST-MODIFIED:20191008T085611Z
UID:60265-1573545600-1573574400@www.es-karlsruhe.eu
SUMMARY:Technik Museum in Speyer
DESCRIPTION:12.11.2019 \ndie 5. Klassen besuchen das  Technik in Speyer
URL:https://www.es-karlsruhe.eu/de/event/technik-museum-in-speyer/
CATEGORIES:Grundschule
END:VEVENT
BEGIN:VEVENT
DTSTART;TZID=Europe/Paris:20191113T170000
DTEND;TZID=Europe/Paris:20191113T190000
DTSTAMP:20260426T054249
CREATED:20191105T111119Z
LAST-MODIFIED:20191105T111323Z
UID:62263-1573664400-1573671600@www.es-karlsruhe.eu
SUMMARY:Laternen Umzug vom Kindergarten am 13.11.2019
DESCRIPTION:Sie sind herzlich zum Laternen Umzug (Sankt Martin)   am 13.11.2019 eingeladen. Treffpunkt ist um 17.00 h im Kindergarten. Für warme Getränke sorgen die Eltern. \n 
URL:https://www.es-karlsruhe.eu/de/event/laternen-umzug-am-13-11-2019/
CATEGORIES:Kindergarten
END:VEVENT
BEGIN:VEVENT
DTSTART;TZID=Europe/Paris:20191116T100000
DTEND;TZID=Europe/Paris:20191116T160000
DTSTAMP:20260426T054249
CREATED:20191116T073621Z
LAST-MODIFIED:20191116T073621Z
UID:63004-1573898400-1573920000@www.es-karlsruhe.eu
SUMMARY:JuBi Messe
DESCRIPTION:
URL:https://www.es-karlsruhe.eu/de/event/jubi-messe/
END:VEVENT
BEGIN:VEVENT
DTSTART;TZID=Europe/Paris:20191120T083000
DTEND;TZID=Europe/Paris:20191120T160000
DTSTAMP:20260426T054249
CREATED:20191113T142708Z
LAST-MODIFIED:20191113T143104Z
UID:62786-1574238600-1574265600@www.es-karlsruhe.eu
SUMMARY:KIT Studieninformationstag\, 20.11 ab 8.30Uhr
DESCRIPTION:Am 20. November 2019 findet der Studieninformationstag auf dem Campus Süd statt. \nMit dem Studieninformationstag möchten wir Euch einen Einblick in die spannenden und interessanten Lehr- und Forschungsaktivitäten am KIT geben. Du kannst Probevorlesungen hören\, an den vielfältigen Informationsständen Gespräche mit unseren Fachstudienberater*innen führen und uns beim Forschen über die Schulter schauen. Damit möchten wir Dir einen Eindruck geben\, was das Studieren am KIT bedeutet und welche Perspektiven für Eure berufliche und persönliche Zukunft nach dem Schulabschluss bestehen.
URL:https://www.es-karlsruhe.eu/de/event/kit-studieninformationstag-21-11-ab-8-30uhr/
CATEGORIES:Oberschule
END:VEVENT
BEGIN:VEVENT
DTSTART;VALUE=DATE:20191126
DTEND;VALUE=DATE:20191127
DTSTAMP:20260426T054249
CREATED:20190906T125059Z
LAST-MODIFIED:20191126T235009Z
UID:56350-1574726400-1574812799@www.es-karlsruhe.eu
SUMMARY:S5 Elternabend / Parents' evening / Soirée de parents
DESCRIPTION:info about S6 choices
URL:https://www.es-karlsruhe.eu/de/event/s5-elternabend-parents-evening-soiree-de-parents/
CATEGORIES:Oberschule
END:VEVENT
END:VCALENDAR