BEGIN:VCALENDAR
VERSION:2.0
PRODID:-//European School Karlsruhe - ECPv6.15.20//NONSGML v1.0//EN
CALSCALE:GREGORIAN
METHOD:PUBLISH
X-ORIGINAL-URL:https://www.es-karlsruhe.eu/de/
X-WR-CALDESC:Veranstaltungen für European School Karlsruhe
REFRESH-INTERVAL;VALUE=DURATION:PT1H
X-Robots-Tag:noindex
X-PUBLISHED-TTL:PT1H
BEGIN:VTIMEZONE
TZID:Europe/Paris
BEGIN:DAYLIGHT
TZOFFSETFROM:+0100
TZOFFSETTO:+0200
TZNAME:CEST
DTSTART:20180325T010000
END:DAYLIGHT
BEGIN:STANDARD
TZOFFSETFROM:+0200
TZOFFSETTO:+0100
TZNAME:CET
DTSTART:20181028T010000
END:STANDARD
BEGIN:DAYLIGHT
TZOFFSETFROM:+0100
TZOFFSETTO:+0200
TZNAME:CEST
DTSTART:20190331T010000
END:DAYLIGHT
BEGIN:STANDARD
TZOFFSETFROM:+0200
TZOFFSETTO:+0100
TZNAME:CET
DTSTART:20191027T010000
END:STANDARD
BEGIN:DAYLIGHT
TZOFFSETFROM:+0100
TZOFFSETTO:+0200
TZNAME:CEST
DTSTART:20200329T010000
END:DAYLIGHT
BEGIN:STANDARD
TZOFFSETFROM:+0200
TZOFFSETTO:+0100
TZNAME:CET
DTSTART:20201025T010000
END:STANDARD
END:VTIMEZONE
BEGIN:VTIMEZONE
TZID:Europe/Berlin
BEGIN:DAYLIGHT
TZOFFSETFROM:+0100
TZOFFSETTO:+0200
TZNAME:CEST
DTSTART:20180325T010000
END:DAYLIGHT
BEGIN:STANDARD
TZOFFSETFROM:+0200
TZOFFSETTO:+0100
TZNAME:CET
DTSTART:20181028T010000
END:STANDARD
BEGIN:DAYLIGHT
TZOFFSETFROM:+0100
TZOFFSETTO:+0200
TZNAME:CEST
DTSTART:20190331T010000
END:DAYLIGHT
BEGIN:STANDARD
TZOFFSETFROM:+0200
TZOFFSETTO:+0100
TZNAME:CET
DTSTART:20191027T010000
END:STANDARD
BEGIN:DAYLIGHT
TZOFFSETFROM:+0100
TZOFFSETTO:+0200
TZNAME:CEST
DTSTART:20200329T010000
END:DAYLIGHT
BEGIN:STANDARD
TZOFFSETFROM:+0200
TZOFFSETTO:+0100
TZNAME:CET
DTSTART:20201025T010000
END:STANDARD
END:VTIMEZONE
BEGIN:VEVENT
DTSTART;TZID=Europe/Paris:20191202T163000
DTEND;TZID=Europe/Paris:20191202T180000
DTSTAMP:20260426T040117
CREATED:20191114T114212Z
LAST-MODIFIED:20191114T115651Z
UID:62847-1575304200-1575309600@www.es-karlsruhe.eu
SUMMARY:02.12.2019 - WEIHNACHTSKONZERT - 3\,4\,5 Da - 3E - 3/4F - ½ 5 E
DESCRIPTION:Beginn der Weihnachtskonzerte um 16.30 Uhr. Dauer der Veranstaltung ca. 1 Stunde. \nDie Kinder bleiben bei ihrem Klassenlehrer von 15h30  bis 16h30\,  bitte geben Sie ihnen eine Kleinigkeiten zu Essen \n 
URL:https://www.es-karlsruhe.eu/de/event/weihnachtskonzert-345-da-3e-3-4f-halbe-5e/
CATEGORIES:Grundschule
END:VEVENT
BEGIN:VEVENT
DTSTART;TZID=Europe/Paris:20191203T163000
DTEND;TZID=Europe/Paris:20191203T180000
DTSTAMP:20260426T040117
CREATED:20191114T112710Z
LAST-MODIFIED:20191114T112710Z
UID:62842-1575390600-1575396000@www.es-karlsruhe.eu
SUMMARY:WEIHNACHTSKONZERTE 1. + 2. Klassen - 03.12.2019
DESCRIPTION:Beginn der Weihnachtskonzerte um 16.30 Uhr. Dauer der Veranstaltung ca. 1 Stunde. \nDie Kinder bleiben bei ihrem Klassenlehrer von 15h30  bis 16h30\,  bitte geben Sie ihnen eine Kleinigkeiten zu Essen/Trinken mit.
URL:https://www.es-karlsruhe.eu/de/event/weihnachtskonzerte-1-2-klassen-03-12-2019/
CATEGORIES:Grundschule
END:VEVENT
BEGIN:VEVENT
DTSTART;TZID=Europe/Paris:20191204T080000
DTEND;TZID=Europe/Paris:20191204T120000
DTSTAMP:20260426T040117
CREATED:20191104T151528Z
LAST-MODIFIED:20191105T151457Z
UID:62228-1575446400-1575460800@www.es-karlsruhe.eu
SUMMARY:Klasse 1 Db - Festspielhaus Baden-Baden - 04.12.2019
DESCRIPTION:Die 1Db besucht das Festspielhaus in Baden-Baden\, gespielt wird der Cellokrieger – extra für Kinder. \n 
URL:https://www.es-karlsruhe.eu/de/event/festspielhaus-baden-baden-04-12-2019/
CATEGORIES:Grundschule
END:VEVENT
BEGIN:VEVENT
DTSTART;TZID=Europe/Berlin:20191209T180000
DTEND;TZID=Europe/Berlin:20191209T210000
DTSTAMP:20260426T040117
CREATED:20191120T144443Z
LAST-MODIFIED:20191204T210507Z
UID:63249-1575914400-1575925200@www.es-karlsruhe.eu
SUMMARY:Elternabend / Parents' evening / Soirée de Parents
DESCRIPTION:
URL:https://www.es-karlsruhe.eu/de/event/elternabend-parents-evening-soiree-de-parents-7/
CATEGORIES:Oberschule
END:VEVENT
BEGIN:VEVENT
DTSTART;TZID=Europe/Paris:20191210T090000
DTEND;TZID=Europe/Paris:20191210T123000
DTSTAMP:20260426T040117
CREATED:20191105T150150Z
LAST-MODIFIED:20191105T150230Z
UID:62288-1575968400-1575981000@www.es-karlsruhe.eu
SUMMARY:Klasse 4Db - Badisches Staatstheater - MAX UND MORITZ
DESCRIPTION:Die Klasse 4Db wird am 10.12.2019 das Stück Max und Moritz im Theater anschauen.
URL:https://www.es-karlsruhe.eu/de/event/badisches-staatstheater-max-und-moritz/
CATEGORIES:Grundschule
END:VEVENT
BEGIN:VEVENT
DTSTART;TZID=Europe/Paris:20191210T163000
DTEND;TZID=Europe/Paris:20191210T180000
DTSTAMP:20260426T040117
CREATED:20191114T120156Z
LAST-MODIFIED:20191114T120156Z
UID:62855-1575995400-1576000800@www.es-karlsruhe.eu
SUMMARY:WEIHNACHTSKONZERT am 10.12.2019 - 3\,4\,5 Db\, 4E\, 5F\, Hälfte der 5E
DESCRIPTION:Beginn der Weihnachtskonzerte um 16.30 Uhr. Dauer der Veranstaltung ca. 1 Stunde. \nDie Kinder bleiben bei ihrem Klassenlehrer von 15h30  bis 16h30\,  bitte geben Sie ihnen eine Kleinigkeiten zu Essen/Trinken mit.
URL:https://www.es-karlsruhe.eu/de/event/weihnachtskonzert-am-10-12-2019-345-db-4e-5f-haelfte-der-5e/
CATEGORIES:Grundschule
END:VEVENT
BEGIN:VEVENT
DTSTART;VALUE=DATE:20191212
DTEND;VALUE=DATE:20191220
DTSTAMP:20260426T040117
CREATED:20190909T143535Z
LAST-MODIFIED:20191204T210507Z
UID:56699-1576108800-1576799999@www.es-karlsruhe.eu
SUMMARY:S5 Semesterprüfungen
DESCRIPTION:
URL:https://www.es-karlsruhe.eu/de/event/s5-semesterprufungen/
CATEGORIES:Oberschule
END:VEVENT
BEGIN:VEVENT
DTSTART;TZID=Europe/Paris:20191213T090000
DTEND;TZID=Europe/Paris:20191213T113000
DTSTAMP:20260426T040117
CREATED:20191205T122821Z
LAST-MODIFIED:20191205T122821Z
UID:64886-1576227600-1576236600@www.es-karlsruhe.eu
SUMMARY:Santa Lucia
DESCRIPTION:Santa Lucia  bringt zum Luciafest am 13. Dezember Licht in die Dunkelheit der Winternächte
URL:https://www.es-karlsruhe.eu/de/event/santa-lucia-2/
CATEGORIES:Grundschule,Kindergarten
END:VEVENT
BEGIN:VEVENT
DTSTART;TZID=Europe/Berlin:20191220T080000
DTEND;TZID=Europe/Berlin:20191220T094500
DTSTAMP:20260426T040117
CREATED:20191120T144444Z
LAST-MODIFIED:20191204T210507Z
UID:63250-1576828800-1576835100@www.es-karlsruhe.eu
SUMMARY:Christmas concert / Weihnachtskonzert / concert de Noël
DESCRIPTION:
URL:https://www.es-karlsruhe.eu/de/event/christmas-concert-weihnachtskonzert-concert-de-noel/
CATEGORIES:Oberschule
END:VEVENT
END:VCALENDAR