BEGIN:VCALENDAR
VERSION:2.0
PRODID:-//European School Karlsruhe - ECPv6.15.20//NONSGML v1.0//EN
CALSCALE:GREGORIAN
METHOD:PUBLISH
X-WR-CALNAME:European School Karlsruhe
X-ORIGINAL-URL:https://www.es-karlsruhe.eu/de/
X-WR-CALDESC:Veranstaltungen für European School Karlsruhe
REFRESH-INTERVAL;VALUE=DURATION:PT1H
X-Robots-Tag:noindex
X-PUBLISHED-TTL:PT1H
BEGIN:VTIMEZONE
TZID:Europe/Paris
BEGIN:DAYLIGHT
TZOFFSETFROM:+0100
TZOFFSETTO:+0200
TZNAME:CEST
DTSTART:20190331T010000
END:DAYLIGHT
BEGIN:STANDARD
TZOFFSETFROM:+0200
TZOFFSETTO:+0100
TZNAME:CET
DTSTART:20191027T010000
END:STANDARD
BEGIN:DAYLIGHT
TZOFFSETFROM:+0100
TZOFFSETTO:+0200
TZNAME:CEST
DTSTART:20200329T010000
END:DAYLIGHT
BEGIN:STANDARD
TZOFFSETFROM:+0200
TZOFFSETTO:+0100
TZNAME:CET
DTSTART:20201025T010000
END:STANDARD
BEGIN:DAYLIGHT
TZOFFSETFROM:+0100
TZOFFSETTO:+0200
TZNAME:CEST
DTSTART:20210328T010000
END:DAYLIGHT
BEGIN:STANDARD
TZOFFSETFROM:+0200
TZOFFSETTO:+0100
TZNAME:CET
DTSTART:20211031T010000
END:STANDARD
END:VTIMEZONE
BEGIN:VTIMEZONE
TZID:Europe/Berlin
BEGIN:DAYLIGHT
TZOFFSETFROM:+0100
TZOFFSETTO:+0200
TZNAME:CEST
DTSTART:20190331T010000
END:DAYLIGHT
BEGIN:STANDARD
TZOFFSETFROM:+0200
TZOFFSETTO:+0100
TZNAME:CET
DTSTART:20191027T010000
END:STANDARD
BEGIN:DAYLIGHT
TZOFFSETFROM:+0100
TZOFFSETTO:+0200
TZNAME:CEST
DTSTART:20200329T010000
END:DAYLIGHT
BEGIN:STANDARD
TZOFFSETFROM:+0200
TZOFFSETTO:+0100
TZNAME:CET
DTSTART:20201025T010000
END:STANDARD
BEGIN:DAYLIGHT
TZOFFSETFROM:+0100
TZOFFSETTO:+0200
TZNAME:CEST
DTSTART:20210328T010000
END:DAYLIGHT
BEGIN:STANDARD
TZOFFSETFROM:+0200
TZOFFSETTO:+0100
TZNAME:CET
DTSTART:20211031T010000
END:STANDARD
END:VTIMEZONE
BEGIN:VEVENT
DTSTART;TZID=Europe/Paris:20200907T190000
DTEND;TZID=Europe/Paris:20200907T200000
DTSTAMP:20260425T141737
CREATED:20200826T085712Z
LAST-MODIFIED:20200826T085829Z
UID:81532-1599505200-1599508800@www.es-karlsruhe.eu
SUMMARY:ELTERNABEND für den KINDERGARTEN am 07.09.2020
DESCRIPTION:Der Elternabend für den Kindergarten findet am 07.09.2020 um 19.00 h.
URL:https://www.es-karlsruhe.eu/de/event/elternabend-fuer-den-kindergarten-am-07-09-2020/
CATEGORIES:Kindergarten
END:VEVENT
BEGIN:VEVENT
DTSTART;TZID=Europe/Paris:20200908T190000
DTEND;TZID=Europe/Paris:20200908T200000
DTSTAMP:20260425T141737
CREATED:20200826T090443Z
LAST-MODIFIED:20200826T090443Z
UID:81534-1599591600-1599595200@www.es-karlsruhe.eu
SUMMARY:ELTERNABEND für die 1. Klassen am 08.09.2020
DESCRIPTION:Der Elternabend für die 1. Klassen findet am 08.09.2020 um 19.00 h.
URL:https://www.es-karlsruhe.eu/de/event/elternabend-fuer-die-1-klassen-am-08-09-2020/
CATEGORIES:Grundschule
END:VEVENT
BEGIN:VEVENT
DTSTART;TZID=Europe/Paris:20200909T190000
DTEND;TZID=Europe/Paris:20200909T200000
DTSTAMP:20260425T141737
CREATED:20200827T074611Z
LAST-MODIFIED:20200903T083136Z
UID:81655-1599678000-1599681600@www.es-karlsruhe.eu
SUMMARY:ELTERNABEND für die 2. KLASSEN
DESCRIPTION:Sie sind herzlich zum Elternabend am 09.09.2020 um 19.oo Uhr eingeladen.
URL:https://www.es-karlsruhe.eu/de/event/etlternabend-fuer-die-2-klassen/
CATEGORIES:Grundschule
END:VEVENT
BEGIN:VEVENT
DTSTART;TZID=Europe/Berlin:20200910T180000
DTEND;TZID=Europe/Berlin:20200910T190000
DTSTAMP:20260425T141737
CREATED:20200903T094928Z
LAST-MODIFIED:20200910T074120Z
UID:82192-1599760800-1599764400@www.es-karlsruhe.eu
SUMMARY:S7 BAC Info parents' evening / Elternabend / Soirée de parents
DESCRIPTION:
URL:https://www.es-karlsruhe.eu/de/event/s7-bac-info-parents-evening-elternabend-soiree-de-parents/
LOCATION:Sporthalle
CATEGORIES:Oberschule
END:VEVENT
BEGIN:VEVENT
DTSTART;TZID=Europe/Paris:20200910T190000
DTEND;TZID=Europe/Paris:20200910T200000
DTSTAMP:20260425T141737
CREATED:20200827T074852Z
LAST-MODIFIED:20200827T074852Z
UID:81657-1599764400-1599768000@www.es-karlsruhe.eu
SUMMARY:ELTERNABEND - 3 D/E/F
DESCRIPTION:Sie herzlich zum Elternabend am 10.09.2020 um 19.00 h eingeladen.
URL:https://www.es-karlsruhe.eu/de/event/elternabend-3-d-e-f/
CATEGORIES:Kindergarten
END:VEVENT
BEGIN:VEVENT
DTSTART;TZID=Europe/Paris:20200910T190000
DTEND;TZID=Europe/Paris:20200910T200000
DTSTAMP:20260425T141737
CREATED:20200903T142153Z
LAST-MODIFIED:20200903T142153Z
UID:82233-1599764400-1599768000@www.es-karlsruhe.eu
SUMMARY:PARENTS' EVENING P3 D/E/F
DESCRIPTION:you are invited to the parents‘ evening for class 3 on 10 September at 19.00 h. \n 
URL:https://www.es-karlsruhe.eu/de/event/parents-evening-p3-d-e-f/
CATEGORIES:Grundschule
END:VEVENT
BEGIN:VEVENT
DTSTART;TZID=Europe/Paris:20200914T190000
DTEND;TZID=Europe/Paris:20200914T200000
DTSTAMP:20260425T141737
CREATED:20200827T083858Z
LAST-MODIFIED:20200827T083858Z
UID:81667-1600110000-1600113600@www.es-karlsruhe.eu
SUMMARY:ELTERNABEND - 5 D/E/F
DESCRIPTION:  \nSie sind herzlich zum Elternabend der 5. Klassem am 14.09.2020 um 19.00 h eingeladen.
URL:https://www.es-karlsruhe.eu/de/event/elternabend-5-d-e-f/
CATEGORIES:Grundschule
END:VEVENT
BEGIN:VEVENT
DTSTART;TZID=Europe/Paris:20200915T190000
DTEND;TZID=Europe/Paris:20200915T200000
DTSTAMP:20260425T141737
CREATED:20200903T144102Z
LAST-MODIFIED:20200903T144102Z
UID:82244-1600196400-1600200000@www.es-karlsruhe.eu
SUMMARY:ELTERNABEND KLASSE 4 D/E/F
DESCRIPTION:Sie sind herzlich zum Elternabend der 4. Klassen eingeladen  am 15. September um 19.00 Uhr.
URL:https://www.es-karlsruhe.eu/de/event/elternabend-klasse-4-d-e-f/
CATEGORIES:Grundschule
END:VEVENT
BEGIN:VEVENT
DTSTART;TZID=Europe/Berlin:20200921T180000
DTEND;TZID=Europe/Berlin:20200921T210000
DTSTAMP:20260425T141737
CREATED:20200903T094929Z
LAST-MODIFIED:20200921T011112Z
UID:82193-1600711200-1600722000@www.es-karlsruhe.eu
SUMMARY:S1-S3 parents' evening / Elternabend / Soirée de parents
DESCRIPTION:
URL:https://www.es-karlsruhe.eu/de/event/s1-s3-parents-evening-elternabend-soiree-de-parents/
CATEGORIES:Oberschule
END:VEVENT
BEGIN:VEVENT
DTSTART;TZID=Europe/Berlin:20200922T180000
DTEND;TZID=Europe/Berlin:20200922T210000
DTSTAMP:20260425T141737
CREATED:20200903T094929Z
LAST-MODIFIED:20200922T025847Z
UID:82194-1600797600-1600808400@www.es-karlsruhe.eu
SUMMARY:S4-S6 Parents' evening / Elternabend / Soirée de parents
DESCRIPTION:
URL:https://www.es-karlsruhe.eu/de/event/s4-s6-parents-evening-elternabend-soiree-de-parents/
CATEGORIES:Oberschule
END:VEVENT
END:VCALENDAR