BEGIN:VCALENDAR
VERSION:2.0
PRODID:-//European School Karlsruhe - ECPv6.15.20//NONSGML v1.0//EN
CALSCALE:GREGORIAN
METHOD:PUBLISH
X-ORIGINAL-URL:https://www.es-karlsruhe.eu/de/
X-WR-CALDESC:Veranstaltungen für European School Karlsruhe
REFRESH-INTERVAL;VALUE=DURATION:PT1H
X-Robots-Tag:noindex
X-PUBLISHED-TTL:PT1H
BEGIN:VTIMEZONE
TZID:Europe/Paris
BEGIN:DAYLIGHT
TZOFFSETFROM:+0100
TZOFFSETTO:+0200
TZNAME:CEST
DTSTART:20220327T010000
END:DAYLIGHT
BEGIN:STANDARD
TZOFFSETFROM:+0200
TZOFFSETTO:+0100
TZNAME:CET
DTSTART:20221030T010000
END:STANDARD
BEGIN:DAYLIGHT
TZOFFSETFROM:+0100
TZOFFSETTO:+0200
TZNAME:CEST
DTSTART:20230326T010000
END:DAYLIGHT
BEGIN:STANDARD
TZOFFSETFROM:+0200
TZOFFSETTO:+0100
TZNAME:CET
DTSTART:20231029T010000
END:STANDARD
BEGIN:DAYLIGHT
TZOFFSETFROM:+0100
TZOFFSETTO:+0200
TZNAME:CEST
DTSTART:20240331T010000
END:DAYLIGHT
BEGIN:STANDARD
TZOFFSETFROM:+0200
TZOFFSETTO:+0100
TZNAME:CET
DTSTART:20241027T010000
END:STANDARD
END:VTIMEZONE
BEGIN:VEVENT
DTSTART;VALUE=DATE:20231106
DTEND;VALUE=DATE:20231107
DTSTAMP:20260425T171440
CREATED:20231005T101520Z
LAST-MODIFIED:20231010T080017Z
UID:148181-1699228800-1699315199@www.es-karlsruhe.eu
SUMMARY:Pädagogischer Tag - schulfrei / Pedagogical day - no school / Journée pédagogique - Journée libre
DESCRIPTION:
URL:https://www.es-karlsruhe.eu/de/event/padagogischer-tag-schulfrei-pedagogical-day-no-school-journee-pedagogique-ecole-gratuite/
CATEGORIES:Grundschule
END:VEVENT
BEGIN:VEVENT
DTSTART;VALUE=DATE:20231107
DTEND;VALUE=DATE:20231108
DTSTAMP:20260425T171440
CREATED:20231005T101827Z
LAST-MODIFIED:20231005T101827Z
UID:147909-1699315200-1699401599@www.es-karlsruhe.eu
SUMMARY:Classe forestière / Forest classroom\, 3F+5F+3E
DESCRIPTION:
URL:https://www.es-karlsruhe.eu/de/event/classe-forestiere-forest-classroom-3f5f3e/
CATEGORIES:Kindergarten,Grundschule
END:VEVENT
BEGIN:VEVENT
DTSTART;VALUE=DATE:20231107
DTEND;VALUE=DATE:20231108
DTSTAMP:20260425T171440
CREATED:20231116T141704Z
LAST-MODIFIED:20231116T141704Z
UID:149618-1699315200-1699401599@www.es-karlsruhe.eu
SUMMARY:Gewaltprävention - 08.00 Uhr P3Da; 10.00 Uhr P3Db
DESCRIPTION:
URL:https://www.es-karlsruhe.eu/de/event/gewaltpraevention-08-00-uhr-p3da-10-00-uhr-p3db/
CATEGORIES:Grundschule
END:VEVENT
BEGIN:VEVENT
DTSTART;TZID=Europe/Paris:20231109T083000
DTEND;TZID=Europe/Paris:20231109T120000
DTSTAMP:20260425T171440
CREATED:20231106T154027Z
LAST-MODIFIED:20231108T124026Z
UID:149230-1699518600-1699531200@www.es-karlsruhe.eu
SUMMARY:American Library P4 & P5
DESCRIPTION:
URL:https://www.es-karlsruhe.eu/de/event/american-library/
CATEGORIES:Grundschule
END:VEVENT
BEGIN:VEVENT
DTSTART;TZID=Europe/Paris:20231110T080000
DTEND;TZID=Europe/Paris:20231110T090000
DTSTAMP:20260425T171440
CREATED:20231106T154948Z
LAST-MODIFIED:20231108T112535Z
UID:149234-1699603200-1699606800@www.es-karlsruhe.eu
SUMMARY:Stay & Play Kindergarten
DESCRIPTION:
URL:https://www.es-karlsruhe.eu/de/event/stay-play-kindergarten/
CATEGORIES:Kindergarten
END:VEVENT
BEGIN:VEVENT
DTSTART;TZID=Europe/Paris:20231110T081500
DTEND;TZID=Europe/Paris:20231110T100000
DTSTAMP:20260425T171440
CREATED:20231005T101942Z
LAST-MODIFIED:20231005T101942Z
UID:147912-1699604100-1699610400@www.es-karlsruhe.eu
SUMMARY:PA Café\, 8.15 -10 Uhr\, Schulkantine
DESCRIPTION:
URL:https://www.es-karlsruhe.eu/de/event/pa-cafe-8-15-10-uhr-schulkantine-2/
CATEGORIES:Kindergarten,Grundschule
END:VEVENT
BEGIN:VEVENT
DTSTART;VALUE=DATE:20231113
DTEND;VALUE=DATE:20231114
DTSTAMP:20260425T171440
CREATED:20231005T102139Z
LAST-MODIFIED:20231005T102139Z
UID:147916-1699833600-1699919999@www.es-karlsruhe.eu
SUMMARY:Start November Talks in der Grundschule
DESCRIPTION:
URL:https://www.es-karlsruhe.eu/de/event/start-november-talks-in-der-grundschule-2/
CATEGORIES:Kindergarten,Grundschule
END:VEVENT
BEGIN:VEVENT
DTSTART;VALUE=DATE:20231113
DTEND;VALUE=DATE:20231114
DTSTAMP:20260425T171440
CREATED:20231010T092048Z
LAST-MODIFIED:20231010T131236Z
UID:148262-1699833600-1699919999@www.es-karlsruhe.eu
SUMMARY:S1->S7 November reports / Novemberberichte / Bulletins
DESCRIPTION:
URL:https://www.es-karlsruhe.eu/de/event/s1-s7-november-reports-novemberberichte-bulletins/
CATEGORIES:Oberschule
END:VEVENT
BEGIN:VEVENT
DTSTART;VALUE=DATE:20231114
DTEND;VALUE=DATE:20231115
DTSTAMP:20260425T171440
CREATED:20231005T102656Z
LAST-MODIFIED:20231005T102656Z
UID:147918-1699920000-1700006399@www.es-karlsruhe.eu
SUMMARY:Stufe P5: Besuch Technikmuseum Speyer / Speyer Technology Museum visit / Visitez le musée technologique de Spire
DESCRIPTION:
URL:https://www.es-karlsruhe.eu/de/event/stufe-p5-besuch-technikmuseum-speyer-speyer-technology-museum-visit-visitez-le-musee-technologique-de-spire/
CATEGORIES:Kindergarten,Grundschule
END:VEVENT
BEGIN:VEVENT
DTSTART;VALUE=DATE:20231114
DTEND;VALUE=DATE:20231115
DTSTAMP:20260425T171440
CREATED:20231026T115545Z
LAST-MODIFIED:20231026T115545Z
UID:148878-1699920000-1700006399@www.es-karlsruhe.eu
SUMMARY:3F Besuch Klärwerk Karlsruhe\, 9-12 Uhr
DESCRIPTION:
URL:https://www.es-karlsruhe.eu/de/event/3f-besuch-klarwerk-karlsruhe-9-12-uhr/
CATEGORIES:Grundschule,Kindergarten
END:VEVENT
BEGIN:VEVENT
DTSTART;VALUE=DATE:20231114
DTEND;VALUE=DATE:20231115
DTSTAMP:20260425T171440
CREATED:20231117T122318Z
LAST-MODIFIED:20231117T122318Z
UID:149650-1699920000-1700006399@www.es-karlsruhe.eu
SUMMARY:Gewaltprävention - 08.00 Uhr P3Db; 10.00 Uhr P3Da
DESCRIPTION:
URL:https://www.es-karlsruhe.eu/de/event/gewaltpraevention-08-00-uhr-p3db-10-00-uhr-p3da/
CATEGORIES:Grundschule
END:VEVENT
BEGIN:VEVENT
DTSTART;TZID=Europe/Paris:20231114T180000
DTEND;TZID=Europe/Paris:20231114T200000
DTSTAMP:20260425T171440
CREATED:20231010T093457Z
LAST-MODIFIED:20231010T093457Z
UID:148204-1699984800-1699992000@www.es-karlsruhe.eu
SUMMARY:S5 parents' evening / Elternabend / soirée de parents -Info S6
DESCRIPTION:
URL:https://www.es-karlsruhe.eu/de/event/s5-parents-evening-elternabend-soiree-de-parents-info-s6/
CATEGORIES:Oberschule
END:VEVENT
BEGIN:VEVENT
DTSTART;VALUE=DATE:20231115
DTEND;VALUE=DATE:20231116
DTSTAMP:20260425T171440
CREATED:20231114T151730Z
LAST-MODIFIED:20231117T124438Z
UID:149658-1700006400-1700092799@www.es-karlsruhe.eu
SUMMARY:P5 - Online-Meeting mit den Eltern über die Ski-Klassenfahrt um 19.00 Uhr
DESCRIPTION:
URL:https://www.es-karlsruhe.eu/de/event/p5-online-meeting-with-parents-about-ski-class-trip-at-07-00-pm/
CATEGORIES:Grundschule
END:VEVENT
BEGIN:VEVENT
DTSTART;VALUE=DATE:20231116
DTEND;VALUE=DATE:20231117
DTSTAMP:20260425T171440
CREATED:20231211T104951Z
LAST-MODIFIED:20231211T104951Z
UID:150344-1700092800-1700179199@www.es-karlsruhe.eu
SUMMARY:P3Db Besuch Klärwerk Karlsruhe
DESCRIPTION:
URL:https://www.es-karlsruhe.eu/de/event/p3db-besuch-klarwerk-karlsruhe/
CATEGORIES:Grundschule
END:VEVENT
BEGIN:VEVENT
DTSTART;VALUE=DATE:20231116
DTEND;VALUE=DATE:20231117
DTSTAMP:20260425T171440
CREATED:20231113T115437Z
LAST-MODIFIED:20231113T130012Z
UID:149475-1700092800-1700179199@www.es-karlsruhe.eu
SUMMARY:P1E  -  American library
DESCRIPTION:
URL:https://www.es-karlsruhe.eu/de/event/p1e-american-library/
CATEGORIES:Grundschule
END:VEVENT
BEGIN:VEVENT
DTSTART;VALUE=DATE:20231116
DTEND;VALUE=DATE:20231117
DTSTAMP:20260425T171440
CREATED:20231211T105248Z
LAST-MODIFIED:20231211T105502Z
UID:150348-1700092800-1700179199@www.es-karlsruhe.eu
SUMMARY:Treffen Schülerrat - Meeting student council P3-P5
DESCRIPTION:
URL:https://www.es-karlsruhe.eu/de/event/treffen-schulerrat-meeting-student-council-p3-p5/
CATEGORIES:Grundschule
END:VEVENT
BEGIN:VEVENT
DTSTART;VALUE=DATE:20231117
DTEND;VALUE=DATE:20231118
DTSTAMP:20260425T171440
CREATED:20231113T115538Z
LAST-MODIFIED:20231113T115538Z
UID:149473-1700179200-1700265599@www.es-karlsruhe.eu
SUMMARY:P2E - American library
DESCRIPTION:
URL:https://www.es-karlsruhe.eu/de/event/p2e-american-library/
CATEGORIES:Grundschule
END:VEVENT
BEGIN:VEVENT
DTSTART;VALUE=DATE:20231121
DTEND;VALUE=DATE:20231122
DTSTAMP:20260425T171440
CREATED:20231117T123346Z
LAST-MODIFIED:20231117T123346Z
UID:149655-1700524800-1700611199@www.es-karlsruhe.eu
SUMMARY:Erziehungsrat Grundschule\, 16.00 Uhr EDC
DESCRIPTION:
URL:https://www.es-karlsruhe.eu/de/event/erziehungsrat-grundschule-16-00-uhr-edc/
CATEGORIES:Grundschule,Kindergarten
END:VEVENT
BEGIN:VEVENT
DTSTART;VALUE=DATE:20231121
DTEND;VALUE=DATE:20231122
DTSTAMP:20260425T171440
CREATED:20231127T143122Z
LAST-MODIFIED:20231127T143304Z
UID:149767-1700524800-1700611199@www.es-karlsruhe.eu
SUMMARY:04:00 pm Education Council Primary in EDC
DESCRIPTION:
URL:https://www.es-karlsruhe.eu/de/event/0400-pm-education-council-edc/
CATEGORIES:Kindergarten,Grundschule
END:VEVENT
BEGIN:VEVENT
DTSTART;TZID=Europe/Paris:20231122T180000
DTEND;TZID=Europe/Paris:20231122T210000
DTSTAMP:20260425T171440
CREATED:20231010T093834Z
LAST-MODIFIED:20231010T131130Z
UID:148258-1700676000-1700686800@www.es-karlsruhe.eu
SUMMARY:S1 -> S7 parents' evening / Elternabend / soirée de parents (by invitation / auf Einladung / par invitation)
DESCRIPTION:
URL:https://www.es-karlsruhe.eu/de/event/s1-s7-parents-evening-elternabend-soiree-de-parents-by-invitation-auf-einladung-par-invitation/
CATEGORIES:Oberschule
END:VEVENT
BEGIN:VEVENT
DTSTART;VALUE=DATE:20231123
DTEND;VALUE=DATE:20231124
DTSTAMP:20260425T171440
CREATED:20231113T125338Z
LAST-MODIFIED:20231113T131256Z
UID:149470-1700697600-1700783999@www.es-karlsruhe.eu
SUMMARY:KGE  -  American library
DESCRIPTION:
URL:https://www.es-karlsruhe.eu/de/event/kge-american-library-2/
CATEGORIES:Kindergarten,Grundschule
END:VEVENT
BEGIN:VEVENT
DTSTART;VALUE=DATE:20231123
DTEND;VALUE=DATE:20231124
DTSTAMP:20260425T171440
CREATED:20231211T105832Z
LAST-MODIFIED:20231211T105832Z
UID:150354-1700697600-1700783999@www.es-karlsruhe.eu
SUMMARY:P3Da Besuch Klärwerk Karlsruhe
DESCRIPTION:
URL:https://www.es-karlsruhe.eu/de/event/p3da-besuch-klarwerk-karlsruhe/
CATEGORIES:Grundschule
END:VEVENT
BEGIN:VEVENT
DTSTART;VALUE=DATE:20231124
DTEND;VALUE=DATE:20231125
DTSTAMP:20260425T171440
CREATED:20231113T130335Z
LAST-MODIFIED:20231113T130407Z
UID:149481-1700784000-1700870399@www.es-karlsruhe.eu
SUMMARY:P3E - American library
DESCRIPTION:
URL:https://www.es-karlsruhe.eu/de/event/p3e-american-library/
CATEGORIES:Grundschule
END:VEVENT
BEGIN:VEVENT
DTSTART;VALUE=DATE:20231130
DTEND;VALUE=DATE:20231201
DTSTAMP:20260425T171440
CREATED:20231005T102859Z
LAST-MODIFIED:20231005T102859Z
UID:147922-1701302400-1701388799@www.es-karlsruhe.eu
SUMMARY:End of the November talks
DESCRIPTION:
URL:https://www.es-karlsruhe.eu/de/event/end-of-the-november-talks/
CATEGORIES:Kindergarten,Grundschule
END:VEVENT
BEGIN:VEVENT
DTSTART;VALUE=DATE:20231130
DTEND;VALUE=DATE:20231201
DTSTAMP:20260425T171440
CREATED:20231128T133433Z
LAST-MODIFIED:20231128T134332Z
UID:149892-1701302400-1701388799@www.es-karlsruhe.eu
SUMMARY:Nursery: Dental health promotion visits
DESCRIPTION:
URL:https://www.es-karlsruhe.eu/de/event/dental-health-promotion-visits/
CATEGORIES:Kindergarten
END:VEVENT
END:VCALENDAR