BEGIN:VCALENDAR
VERSION:2.0
PRODID:-//European School Karlsruhe - ECPv6.15.20//NONSGML v1.0//EN
CALSCALE:GREGORIAN
METHOD:PUBLISH
X-ORIGINAL-URL:https://www.es-karlsruhe.eu/de/
X-WR-CALDESC:Veranstaltungen für European School Karlsruhe
REFRESH-INTERVAL;VALUE=DURATION:PT1H
X-Robots-Tag:noindex
X-PUBLISHED-TTL:PT1H
BEGIN:VTIMEZONE
TZID:Europe/Paris
BEGIN:DAYLIGHT
TZOFFSETFROM:+0100
TZOFFSETTO:+0200
TZNAME:CEST
DTSTART:20210328T010000
END:DAYLIGHT
BEGIN:STANDARD
TZOFFSETFROM:+0200
TZOFFSETTO:+0100
TZNAME:CET
DTSTART:20211031T010000
END:STANDARD
BEGIN:DAYLIGHT
TZOFFSETFROM:+0100
TZOFFSETTO:+0200
TZNAME:CEST
DTSTART:20220327T010000
END:DAYLIGHT
BEGIN:STANDARD
TZOFFSETFROM:+0200
TZOFFSETTO:+0100
TZNAME:CET
DTSTART:20221030T010000
END:STANDARD
BEGIN:DAYLIGHT
TZOFFSETFROM:+0100
TZOFFSETTO:+0200
TZNAME:CEST
DTSTART:20230326T010000
END:DAYLIGHT
BEGIN:STANDARD
TZOFFSETFROM:+0200
TZOFFSETTO:+0100
TZNAME:CET
DTSTART:20231029T010000
END:STANDARD
END:VTIMEZONE
BEGIN:VEVENT
DTSTART;VALUE=DATE:20221107
DTEND;VALUE=DATE:20221108
DTSTAMP:20260425T152610
CREATED:20220920T132800Z
LAST-MODIFIED:20221027T110833Z
UID:128387-1667779200-1667865599@www.es-karlsruhe.eu
SUMMARY:Pädagogischer Tag - Kein Unterricht
DESCRIPTION:
URL:https://www.es-karlsruhe.eu/de/event/padagogischer-tag-2/
CATEGORIES:Grundschule,Kindergarten,Oberschule
END:VEVENT
BEGIN:VEVENT
DTSTART;TZID=Europe/Paris:20221111T084500
DTEND;TZID=Europe/Paris:20221111T103000
DTSTAMP:20260425T152610
CREATED:20220920T133017Z
LAST-MODIFIED:20221027T110943Z
UID:128393-1668156300-1668162600@www.es-karlsruhe.eu
SUMMARY:P4 Jugendverkehrsschule Waldstadt (Prüfung 4E + 4F)
DESCRIPTION:
URL:https://www.es-karlsruhe.eu/de/event/p4-jugendverkehrsschule-waldstadt-prufung/
CATEGORIES:Grundschule
END:VEVENT
BEGIN:VEVENT
DTSTART;TZID=Europe/Paris:20221114T084500
DTEND;TZID=Europe/Paris:20221114T103000
DTSTAMP:20260425T152610
CREATED:20220920T133156Z
LAST-MODIFIED:20221027T111052Z
UID:128397-1668415500-1668421800@www.es-karlsruhe.eu
SUMMARY:P4 Jugendverkehrsschule Waldstadt (Prüfung 4Da + 4Db)
DESCRIPTION:
URL:https://www.es-karlsruhe.eu/de/event/p4-jugendverkehrsschule-waldstadt-prufung-2/
CATEGORIES:Grundschule
END:VEVENT
BEGIN:VEVENT
DTSTART;VALUE=DATE:20221115
DTEND;VALUE=DATE:20221116
DTSTAMP:20260425T152610
CREATED:20220920T133305Z
LAST-MODIFIED:20220920T133305Z
UID:128401-1668470400-1668556799@www.es-karlsruhe.eu
SUMMARY:P5 Ausflug nach Speyer ins Technikmuseum
DESCRIPTION:
URL:https://www.es-karlsruhe.eu/de/event/p5-ausflug-nach-speyer-ins-technikmuseum/
CATEGORIES:Grundschule
END:VEVENT
END:VCALENDAR