BEGIN:VCALENDAR
VERSION:2.0
PRODID:-//European School Karlsruhe - ECPv6.15.20//NONSGML v1.0//EN
CALSCALE:GREGORIAN
METHOD:PUBLISH
X-ORIGINAL-URL:https://www.es-karlsruhe.eu/de/
X-WR-CALDESC:Veranstaltungen für European School Karlsruhe
REFRESH-INTERVAL;VALUE=DURATION:PT1H
X-Robots-Tag:noindex
X-PUBLISHED-TTL:PT1H
BEGIN:VTIMEZONE
TZID:Europe/Paris
BEGIN:DAYLIGHT
TZOFFSETFROM:+0100
TZOFFSETTO:+0200
TZNAME:CEST
DTSTART:20230326T010000
END:DAYLIGHT
BEGIN:STANDARD
TZOFFSETFROM:+0200
TZOFFSETTO:+0100
TZNAME:CET
DTSTART:20231029T010000
END:STANDARD
BEGIN:DAYLIGHT
TZOFFSETFROM:+0100
TZOFFSETTO:+0200
TZNAME:CEST
DTSTART:20240331T010000
END:DAYLIGHT
BEGIN:STANDARD
TZOFFSETFROM:+0200
TZOFFSETTO:+0100
TZNAME:CET
DTSTART:20241027T010000
END:STANDARD
BEGIN:DAYLIGHT
TZOFFSETFROM:+0100
TZOFFSETTO:+0200
TZNAME:CEST
DTSTART:20250330T010000
END:DAYLIGHT
BEGIN:STANDARD
TZOFFSETFROM:+0200
TZOFFSETTO:+0100
TZNAME:CET
DTSTART:20251026T010000
END:STANDARD
END:VTIMEZONE
BEGIN:VEVENT
DTSTART;TZID=Europe/Paris:20240904T083000
DTEND;TZID=Europe/Paris:20240904T120000
DTSTAMP:20260422T083952
CREATED:20240919T080544Z
LAST-MODIFIED:20240919T081514Z
UID:160536-1725438600-1725451200@www.es-karlsruhe.eu
SUMMARY:School ceremony P1 / Einschulungsfeier P1 / Fête de rentrée P1
DESCRIPTION:
URL:https://www.es-karlsruhe.eu/de/event/school-ceremony-p1-einschulungsfeier-p1-fete-de-rentree-p1/
CATEGORIES:Grundschule
END:VEVENT
BEGIN:VEVENT
DTSTART;TZID=Europe/Paris:20240909T190000
DTEND;TZID=Europe/Paris:20240909T203000
DTSTAMP:20260422T083952
CREATED:20240919T122816Z
LAST-MODIFIED:20240919T122816Z
UID:160643-1725908400-1725913800@www.es-karlsruhe.eu
SUMMARY:Parents evening KG / Elternabend KG / Soirée des parents KG
DESCRIPTION:
URL:https://www.es-karlsruhe.eu/de/event/parents-evening-kg-elternabend-kg-soiree-des-parents-kg/
CATEGORIES:Grundschule
END:VEVENT
BEGIN:VEVENT
DTSTART;VALUE=DATE:20240910
DTEND;VALUE=DATE:20240911
DTSTAMP:20260422T083952
CREATED:20240916T082135Z
LAST-MODIFIED:20240919T082253Z
UID:160545-1725926400-1726012799@www.es-karlsruhe.eu
SUMMARY:Forest classroom  2Da\, 5Da / Waldklassenzimmer 2Da\, 5Da / Classe de forêt 2Da\, 5Da
DESCRIPTION:
URL:https://www.es-karlsruhe.eu/de/event/forest-classroom-2da-5da/
CATEGORIES:Grundschule
END:VEVENT
BEGIN:VEVENT
DTSTART;TZID=Europe/Paris:20240910T190000
DTEND;TZID=Europe/Paris:20240910T203000
DTSTAMP:20260422T083952
CREATED:20240916T082309Z
LAST-MODIFIED:20240919T084907Z
UID:160553-1725994800-1726000200@www.es-karlsruhe.eu
SUMMARY:Parents' evening P1 / Elternabend P1 / Soirée des parents P1
DESCRIPTION:
URL:https://www.es-karlsruhe.eu/de/event/parents-evening-p1-2/
CATEGORIES:Grundschule
END:VEVENT
BEGIN:VEVENT
DTSTART;TZID=Europe/Paris:20240911T190000
DTEND;TZID=Europe/Paris:20240911T203000
DTSTAMP:20260422T083952
CREATED:20240919T113730Z
LAST-MODIFIED:20240919T115819Z
UID:160601-1726081200-1726086600@www.es-karlsruhe.eu
SUMMARY:Parents evening / Elternabend /  Soirée des parents P2
DESCRIPTION:
URL:https://www.es-karlsruhe.eu/de/event/parents-evening-elternabend-classe-de-foret-p2/
CATEGORIES:Grundschule
END:VEVENT
BEGIN:VEVENT
DTSTART;TZID=Europe/Paris:20240912T190000
DTEND;TZID=Europe/Paris:20240912T203000
DTSTAMP:20260422T083952
CREATED:20240916T082511Z
LAST-MODIFIED:20240919T111825Z
UID:160568-1726167600-1726173000@www.es-karlsruhe.eu
SUMMARY:Parents' evening P3 / Elternabend P3 / Soirée des parents P3
DESCRIPTION:
URL:https://www.es-karlsruhe.eu/de/event/parents-evening-p3-2/
CATEGORIES:Grundschule
END:VEVENT
BEGIN:VEVENT
DTSTART;VALUE=DATE:20240913
DTEND;VALUE=DATE:20240914
DTSTAMP:20260422T083952
CREATED:20240919T120157Z
LAST-MODIFIED:20240919T120219Z
UID:160615-1726185600-1726271999@www.es-karlsruhe.eu
SUMMARY:PA Café\, 8:05 Uhr\, EDC
DESCRIPTION:
URL:https://www.es-karlsruhe.eu/de/event/pa-cafe-805-uhr-edc/
CATEGORIES:Grundschule
END:VEVENT
BEGIN:VEVENT
DTSTART;VALUE=DATE:20240914
DTEND;VALUE=DATE:20240915
DTSTAMP:20260422T083952
CREATED:20240919T120315Z
LAST-MODIFIED:20240919T120336Z
UID:160621-1726272000-1726358399@www.es-karlsruhe.eu
SUMMARY:Mini-Marathon im Carl-Kaufmann-Stadion Karlsruhe
DESCRIPTION:
URL:https://www.es-karlsruhe.eu/de/event/mini-marathon-im-carl-kaufmann-stadion-karlsruhe/
CATEGORIES:Grundschule
END:VEVENT
BEGIN:VEVENT
DTSTART;TZID=Europe/Paris:20240916T190000
DTEND;TZID=Europe/Paris:20240916T203000
DTSTAMP:20260422T083952
CREATED:20240916T082555Z
LAST-MODIFIED:20240919T112707Z
UID:160574-1726513200-1726518600@www.es-karlsruhe.eu
SUMMARY:Parents' evening P4 / Elternabend P4 / Soirée des parents P4
DESCRIPTION:
URL:https://www.es-karlsruhe.eu/de/event/parents-evening-p4-2/
CATEGORIES:Grundschule
END:VEVENT
BEGIN:VEVENT
DTSTART;VALUE=DATE:20240917
DTEND;VALUE=DATE:20240918
DTSTAMP:20260422T083952
CREATED:20240916T082925Z
LAST-MODIFIED:20240919T112914Z
UID:160580-1726531200-1726617599@www.es-karlsruhe.eu
SUMMARY:Forest classroom 2F\, 5F / Waldklassenzimmer 2F\, 5F / Classe de forêt 2F\, 5F
DESCRIPTION:
URL:https://www.es-karlsruhe.eu/de/event/forest-classroom-2f-5f/
CATEGORIES:Grundschule
END:VEVENT
BEGIN:VEVENT
DTSTART;VALUE=DATE:20240919
DTEND;VALUE=DATE:20240920
DTSTAMP:20260422T083952
CREATED:20240916T083005Z
LAST-MODIFIED:20240919T113224Z
UID:160500-1726704000-1726790399@www.es-karlsruhe.eu
SUMMARY:Forest classroom / Waldklassenzimmer / Classe de forêt 1Db\, 4Da
DESCRIPTION:
URL:https://www.es-karlsruhe.eu/de/event/forest-classroom-1db-4da/
CATEGORIES:Grundschule
END:VEVENT
BEGIN:VEVENT
DTSTART;TZID=Europe/Paris:20240920T110000
DTEND;TZID=Europe/Paris:20240920T120000
DTSTAMP:20260422T083952
CREATED:20240919T120637Z
LAST-MODIFIED:20240919T120656Z
UID:160627-1726830000-1726833600@www.es-karlsruhe.eu
SUMMARY:Burundi Run\, 11 Uhr
DESCRIPTION:
URL:https://www.es-karlsruhe.eu/de/event/burundi-run-11-uhr/
CATEGORIES:Grundschule
END:VEVENT
BEGIN:VEVENT
DTSTART;VALUE=DATE:20240924
DTEND;VALUE=DATE:20240925
DTSTAMP:20260422T083952
CREATED:20240916T083043Z
LAST-MODIFIED:20240919T113435Z
UID:160594-1727136000-1727222399@www.es-karlsruhe.eu
SUMMARY:Forest classroom /   Waldklassenzimmer / Classe de forêt 1E\, 4E
DESCRIPTION:
URL:https://www.es-karlsruhe.eu/de/event/forest-classroom-1e-4e/
CATEGORIES:Grundschule
END:VEVENT
BEGIN:VEVENT
DTSTART;VALUE=DATE:20240926
DTEND;VALUE=DATE:20240927
DTSTAMP:20260422T083952
CREATED:20240919T121150Z
LAST-MODIFIED:20240919T121150Z
UID:160637-1727308800-1727395199@www.es-karlsruhe.eu
SUMMARY:Forest classroom / Waldklassenzimmer / Classe de forêt  3Da\, 3Db
DESCRIPTION:
URL:https://www.es-karlsruhe.eu/de/event/forest-classroom-waldklassenzimmer-classe-de-foret-3da-3db/
CATEGORIES:Grundschule
END:VEVENT
END:VCALENDAR