BEGIN:VCALENDAR
VERSION:2.0
PRODID:-//European School Karlsruhe - ECPv6.15.20//NONSGML v1.0//EN
CALSCALE:GREGORIAN
METHOD:PUBLISH
X-WR-CALNAME:European School Karlsruhe
X-ORIGINAL-URL:https://www.es-karlsruhe.eu/de/
X-WR-CALDESC:Veranstaltungen für European School Karlsruhe
REFRESH-INTERVAL;VALUE=DURATION:PT1H
X-Robots-Tag:noindex
X-PUBLISHED-TTL:PT1H
BEGIN:VTIMEZONE
TZID:Europe/Paris
BEGIN:DAYLIGHT
TZOFFSETFROM:+0100
TZOFFSETTO:+0200
TZNAME:CEST
DTSTART:20240331T010000
END:DAYLIGHT
BEGIN:STANDARD
TZOFFSETFROM:+0200
TZOFFSETTO:+0100
TZNAME:CET
DTSTART:20241027T010000
END:STANDARD
BEGIN:DAYLIGHT
TZOFFSETFROM:+0100
TZOFFSETTO:+0200
TZNAME:CEST
DTSTART:20250330T010000
END:DAYLIGHT
BEGIN:STANDARD
TZOFFSETFROM:+0200
TZOFFSETTO:+0100
TZNAME:CET
DTSTART:20251026T010000
END:STANDARD
BEGIN:DAYLIGHT
TZOFFSETFROM:+0100
TZOFFSETTO:+0200
TZNAME:CEST
DTSTART:20260329T010000
END:DAYLIGHT
BEGIN:STANDARD
TZOFFSETFROM:+0200
TZOFFSETTO:+0100
TZNAME:CET
DTSTART:20261025T010000
END:STANDARD
END:VTIMEZONE
BEGIN:VEVENT
DTSTART;VALUE=DATE:20250303
DTEND;VALUE=DATE:20250304
DTSTAMP:20260421T205928
CREATED:20241028T074042Z
LAST-MODIFIED:20241028T074127Z
UID:162308-1740960000-1741046399@www.es-karlsruhe.eu
SUMMARY:Book week / Buchwoche / Semaine du livre
DESCRIPTION:
URL:https://www.es-karlsruhe.eu/de/event/book-week-buchwoche-semaine-du-livre/
CATEGORIES:Grundschule,Kindergarten
END:VEVENT
BEGIN:VEVENT
DTSTART;TZID=Europe/Paris:20250308T093000
DTEND;TZID=Europe/Paris:20250308T140000
DTSTAMP:20260421T205928
CREATED:20241009T090318Z
LAST-MODIFIED:20241009T090318Z
UID:161764-1741426200-1741442400@www.es-karlsruhe.eu
SUMMARY:Open day / Tag der offenen Tür/ Journée portes ouvertes
DESCRIPTION:
URL:https://www.es-karlsruhe.eu/de/event/open-day-tag-der-offenen-tur-journee-portes-ouvertes-4/
CATEGORIES:Grundschule,Kindergarten,Oberschule
END:VEVENT
BEGIN:VEVENT
DTSTART;VALUE=DATE:20250311
DTEND;VALUE=DATE:20250312
DTSTAMP:20260421T205928
CREATED:20241213T133524Z
LAST-MODIFIED:20241213T133524Z
UID:164002-1741651200-1741737599@www.es-karlsruhe.eu
SUMMARY:P5 - Internet Safety Training
DESCRIPTION:
URL:https://www.es-karlsruhe.eu/de/event/p5-internet-safety-training/
CATEGORIES:Grundschule
END:VEVENT
BEGIN:VEVENT
DTSTART;VALUE=DATE:20250312
DTEND;VALUE=DATE:20250313
DTSTAMP:20260421T205928
CREATED:20241213T134040Z
LAST-MODIFIED:20241213T134040Z
UID:164006-1741737600-1741823999@www.es-karlsruhe.eu
SUMMARY:P1 - Verkehrserziehung mit der Polizei / Road safety education with the police / Education à la sécurité routière avec la police
DESCRIPTION:
URL:https://www.es-karlsruhe.eu/de/event/p1-verkehrserziehung-mit-der-polizei-road-safety-education-with-the-police-education-a-la-securite-routiere-avec-la-police/
CATEGORIES:Grundschule
END:VEVENT
BEGIN:VEVENT
DTSTART;VALUE=DATE:20250317
DTEND;VALUE=DATE:20250322
DTSTAMP:20260421T205928
CREATED:20241028T074337Z
LAST-MODIFIED:20241028T080400Z
UID:162314-1742169600-1742601599@www.es-karlsruhe.eu
SUMMARY:Project P3 Karlsruhe / P3 Projekt Karlsruhe /  Projet P3 Karlsruhe
DESCRIPTION:
URL:https://www.es-karlsruhe.eu/de/event/project-p3-karlsruhe-p3-projekt-karlsruhe-projet-p3-karlsruhe/
CATEGORIES:Grundschule
END:VEVENT
END:VCALENDAR