BEGIN:VCALENDAR
VERSION:2.0
PRODID:-//European School Karlsruhe - ECPv6.15.20//NONSGML v1.0//EN
CALSCALE:GREGORIAN
METHOD:PUBLISH
X-ORIGINAL-URL:https://www.es-karlsruhe.eu/de/
X-WR-CALDESC:Veranstaltungen für European School Karlsruhe
REFRESH-INTERVAL;VALUE=DURATION:PT1H
X-Robots-Tag:noindex
X-PUBLISHED-TTL:PT1H
BEGIN:VTIMEZONE
TZID:Europe/Paris
BEGIN:DAYLIGHT
TZOFFSETFROM:+0100
TZOFFSETTO:+0200
TZNAME:CEST
DTSTART:20240331T010000
END:DAYLIGHT
BEGIN:STANDARD
TZOFFSETFROM:+0200
TZOFFSETTO:+0100
TZNAME:CET
DTSTART:20241027T010000
END:STANDARD
BEGIN:DAYLIGHT
TZOFFSETFROM:+0100
TZOFFSETTO:+0200
TZNAME:CEST
DTSTART:20250330T010000
END:DAYLIGHT
BEGIN:STANDARD
TZOFFSETFROM:+0200
TZOFFSETTO:+0100
TZNAME:CET
DTSTART:20251026T010000
END:STANDARD
BEGIN:DAYLIGHT
TZOFFSETFROM:+0100
TZOFFSETTO:+0200
TZNAME:CEST
DTSTART:20260329T010000
END:DAYLIGHT
BEGIN:STANDARD
TZOFFSETFROM:+0200
TZOFFSETTO:+0100
TZNAME:CET
DTSTART:20261025T010000
END:STANDARD
END:VTIMEZONE
BEGIN:VEVENT
DTSTART;VALUE=DATE:20250501
DTEND;VALUE=DATE:20250502
DTSTAMP:20260421T173817
CREATED:20241028T082348Z
LAST-MODIFIED:20241028T082410Z
UID:162351-1746057600-1746143999@www.es-karlsruhe.eu
SUMMARY:May Bank Holiday / Maifeiertag / Jour de mai
DESCRIPTION:
URL:https://www.es-karlsruhe.eu/de/event/may-bank-holiday-maifeiertag-jour-de-mai/
CATEGORIES:Grundschule,Kindergarten
END:VEVENT
BEGIN:VEVENT
DTSTART;VALUE=DATE:20250502
DTEND;VALUE=DATE:20250503
DTSTAMP:20260421T173817
CREATED:20241028T082146Z
LAST-MODIFIED:20241028T082209Z
UID:162345-1746144000-1746230399@www.es-karlsruhe.eu
SUMMARY:Project week / Projektwoche / Semaine de projet
DESCRIPTION:
URL:https://www.es-karlsruhe.eu/de/event/project-week-projektwoche-semaine-de-projet-2/
CATEGORIES:Grundschule
END:VEVENT
BEGIN:VEVENT
DTSTART;VALUE=DATE:20250505
DTEND;VALUE=DATE:20250509
DTSTAMP:20260421T173817
CREATED:20250115T125638Z
LAST-MODIFIED:20250402T084518Z
UID:165000-1746403200-1746748799@www.es-karlsruhe.eu
SUMMARY:Project week / Projektwoche / Semaine de projet (sustainability)
DESCRIPTION:
URL:https://www.es-karlsruhe.eu/de/event/project-week-projektwoche-semaine-de-projet/
CATEGORIES:Kindergarten,Grundschule
END:VEVENT
BEGIN:VEVENT
DTSTART;VALUE=DATE:20250509
DTEND;VALUE=DATE:20250510
DTSTAMP:20260421T173817
CREATED:20250401T134845Z
LAST-MODIFIED:20250401T135540Z
UID:167577-1746748800-1746835199@www.es-karlsruhe.eu
SUMMARY:European Day / Europatag / Journée de l'Europe
DESCRIPTION:
URL:https://www.es-karlsruhe.eu/de/event/european-day-europatag-journee-de-leurope/
CATEGORIES:Grundschule,Kindergarten,Oberschule
END:VEVENT
BEGIN:VEVENT
DTSTART;VALUE=DATE:20250509
DTEND;VALUE=DATE:20250510
DTSTAMP:20260421T173817
CREATED:20250401T140834Z
LAST-MODIFIED:20250401T140834Z
UID:167583-1746748800-1746835199@www.es-karlsruhe.eu
SUMMARY:Section FR - Intervention de conteurs temporains
DESCRIPTION:
URL:https://www.es-karlsruhe.eu/de/event/section-fr-intervention-de-conteurs-temporains/
CATEGORIES:Grundschule
END:VEVENT
BEGIN:VEVENT
DTSTART;VALUE=DATE:20250512
DTEND;VALUE=DATE:20250516
DTSTAMP:20260421T173817
CREATED:20250128T110831Z
LAST-MODIFIED:20250128T110831Z
UID:165402-1747008000-1747353599@www.es-karlsruhe.eu
SUMMARY:Green Week P2\, Odenwald
DESCRIPTION:
URL:https://www.es-karlsruhe.eu/de/event/green-week-p2-odenwald/
CATEGORIES:Grundschule
END:VEVENT
BEGIN:VEVENT
DTSTART;VALUE=DATE:20250513
DTEND;VALUE=DATE:20250514
DTSTAMP:20260421T173817
CREATED:20241028T080300Z
LAST-MODIFIED:20250411T084325Z
UID:162321-1747094400-1747180799@www.es-karlsruhe.eu
SUMMARY:Trip / Ausflug / Voyage à Fleckenstein Castle P4
DESCRIPTION:
URL:https://www.es-karlsruhe.eu/de/event/trip-ausflug-voyage-a-fleckenstein-castle-p4/
CATEGORIES:Grundschule
END:VEVENT
BEGIN:VEVENT
DTSTART;TZID=Europe/Paris:20250513T160000
DTEND;TZID=Europe/Paris:20250513T170000
DTSTAMP:20260421T173817
CREATED:20250401T141730Z
LAST-MODIFIED:20250401T141756Z
UID:167584-1747152000-1747155600@www.es-karlsruhe.eu
SUMMARY:Erziehungsrat GS
DESCRIPTION:
URL:https://www.es-karlsruhe.eu/de/event/erziehungsrat-gs/
CATEGORIES:Grundschule
END:VEVENT
BEGIN:VEVENT
DTSTART;VALUE=DATE:20250514
DTEND;VALUE=DATE:20250517
DTSTAMP:20260421T173817
CREATED:20241028T082541Z
LAST-MODIFIED:20241028T082600Z
UID:162357-1747180800-1747439999@www.es-karlsruhe.eu
SUMMARY:Green Week P1\, Stuttgart
DESCRIPTION:
URL:https://www.es-karlsruhe.eu/de/event/green-week-p1-stuttgart/
CATEGORIES:Grundschule
END:VEVENT
BEGIN:VEVENT
DTSTART;VALUE=DATE:20250519
DTEND;VALUE=DATE:20250520
DTSTAMP:20260421T173817
CREATED:20241028T082837Z
LAST-MODIFIED:20241028T082837Z
UID:162363-1747612800-1747699199@www.es-karlsruhe.eu
SUMMARY:Green Week P3\, Belair & Green Week P4\, Xonrupt
DESCRIPTION:
URL:https://www.es-karlsruhe.eu/de/event/green-week-p3-belair-green-week-p4-xonrupt/
CATEGORIES:Grundschule
END:VEVENT
BEGIN:VEVENT
DTSTART;VALUE=DATE:20250520
DTEND;VALUE=DATE:20250524
DTSTAMP:20260421T173817
CREATED:20241028T083057Z
LAST-MODIFIED:20250128T110439Z
UID:162369-1747699200-1748044799@www.es-karlsruhe.eu
SUMMARY:Green Week P3\, Belair  &  Green Week P4\, Xonrupt
DESCRIPTION:
URL:https://www.es-karlsruhe.eu/de/event/green-week-p2-hochspeyer-green-week-p3-belair-green-week-p4-xonrupt/
CATEGORIES:Grundschule
END:VEVENT
BEGIN:VEVENT
DTSTART;VALUE=DATE:20250520
DTEND;VALUE=DATE:20250521
DTSTAMP:20260421T173817
CREATED:20250402T101236Z
LAST-MODIFIED:20250402T101236Z
UID:167604-1747699200-1747785599@www.es-karlsruhe.eu
SUMMARY:P2Db - Besuch im Botanischen Garten Karlsruhe
DESCRIPTION:
URL:https://www.es-karlsruhe.eu/de/event/p2db-besuch-im-botanischen-garten-karlsruhe/
CATEGORIES:Grundschule
END:VEVENT
BEGIN:VEVENT
DTSTART;TZID=Europe/Paris:20250523T080500
DTEND;TZID=Europe/Paris:20250523T100000
DTSTAMP:20260421T173817
CREATED:20250402T121003Z
LAST-MODIFIED:20250402T121003Z
UID:167611-1747987500-1747994400@www.es-karlsruhe.eu
SUMMARY:PA Café
DESCRIPTION:
URL:https://www.es-karlsruhe.eu/de/event/pa-cafe-8/
CATEGORIES:Grundschule,Kindergarten,Oberschule
END:VEVENT
BEGIN:VEVENT
DTSTART;VALUE=DATE:20250526
DTEND;VALUE=DATE:20250527
DTSTAMP:20260421T173817
CREATED:20241028T084057Z
LAST-MODIFIED:20241028T084224Z
UID:162373-1748217600-1748303999@www.es-karlsruhe.eu
SUMMARY:Last day of school / Letzter Schultag / dernier jour d'école
DESCRIPTION:
URL:https://www.es-karlsruhe.eu/de/event/last-day-of-school-letzter-schultag-dernier-jour-decole/
CATEGORIES:Grundschule,Kindergarten
END:VEVENT
BEGIN:VEVENT
DTSTART;VALUE=DATE:20250527
DTEND;VALUE=DATE:20250531
DTSTAMP:20260421T173817
CREATED:20241028T084419Z
LAST-MODIFIED:20241028T084439Z
UID:162379-1748304000-1748649599@www.es-karlsruhe.eu
SUMMARY:May holidays / Maiferien / Vacances de mai
DESCRIPTION:
URL:https://www.es-karlsruhe.eu/de/event/may-holidays-maiferien-vacances-de-mai/
CATEGORIES:Grundschule,Kindergarten
END:VEVENT
BEGIN:VEVENT
DTSTART;VALUE=DATE:20250529
DTEND;VALUE=DATE:20250530
DTSTAMP:20260421T173817
CREATED:20241028T085040Z
LAST-MODIFIED:20241028T085101Z
UID:162386-1748476800-1748563199@www.es-karlsruhe.eu
SUMMARY:Ascension Day / Chr. Himmelfahrt / Ascension du Christ
DESCRIPTION:
URL:https://www.es-karlsruhe.eu/de/event/ascension-day-chr-himmelfahrt-ascension-du-christ/
CATEGORIES:Grundschule,Kindergarten
END:VEVENT
END:VCALENDAR