BEGIN:VCALENDAR
VERSION:2.0
PRODID:-//European School Karlsruhe - ECPv6.15.20//NONSGML v1.0//EN
CALSCALE:GREGORIAN
METHOD:PUBLISH
X-WR-CALNAME:European School Karlsruhe
X-ORIGINAL-URL:https://www.es-karlsruhe.eu/de/
X-WR-CALDESC:Veranstaltungen für European School Karlsruhe
REFRESH-INTERVAL;VALUE=DURATION:PT1H
X-Robots-Tag:noindex
X-PUBLISHED-TTL:PT1H
BEGIN:VTIMEZONE
TZID:Europe/Paris
BEGIN:DAYLIGHT
TZOFFSETFROM:+0100
TZOFFSETTO:+0200
TZNAME:CEST
DTSTART:20240331T010000
END:DAYLIGHT
BEGIN:STANDARD
TZOFFSETFROM:+0200
TZOFFSETTO:+0100
TZNAME:CET
DTSTART:20241027T010000
END:STANDARD
BEGIN:DAYLIGHT
TZOFFSETFROM:+0100
TZOFFSETTO:+0200
TZNAME:CEST
DTSTART:20250330T010000
END:DAYLIGHT
BEGIN:STANDARD
TZOFFSETFROM:+0200
TZOFFSETTO:+0100
TZNAME:CET
DTSTART:20251026T010000
END:STANDARD
BEGIN:DAYLIGHT
TZOFFSETFROM:+0100
TZOFFSETTO:+0200
TZNAME:CEST
DTSTART:20260329T010000
END:DAYLIGHT
BEGIN:STANDARD
TZOFFSETFROM:+0200
TZOFFSETTO:+0100
TZNAME:CET
DTSTART:20261025T010000
END:STANDARD
END:VTIMEZONE
BEGIN:VEVENT
DTSTART;VALUE=DATE:20250602
DTEND;VALUE=DATE:20250603
DTSTAMP:20260421T160127
CREATED:20241028T090011Z
LAST-MODIFIED:20241028T090036Z
UID:162392-1748822400-1748908799@www.es-karlsruhe.eu
SUMMARY:1. Schultag / 1st day of school / 1er jour d'école
DESCRIPTION:
URL:https://www.es-karlsruhe.eu/de/event/1-schultag-1st-day-of-school-1er-jour-decole/
CATEGORIES:Grundschule,Kindergarten
END:VEVENT
BEGIN:VEVENT
DTSTART;VALUE=DATE:20250603
DTEND;VALUE=DATE:20250604
DTSTAMP:20260421T160127
CREATED:20241213T140350Z
LAST-MODIFIED:20241213T140350Z
UID:164034-1748908800-1748995199@www.es-karlsruhe.eu
SUMMARY:P5 - Besuch Europäischer Rat - Visit European Council - Visite Conseil de l'Europe
DESCRIPTION:
URL:https://www.es-karlsruhe.eu/de/event/p5-besuch-europaischer-rat-visit-european-council-visite-conseil-de-leurope/
CATEGORIES:Grundschule
END:VEVENT
BEGIN:VEVENT
DTSTART;VALUE=DATE:20250603
DTEND;VALUE=DATE:20250604
DTSTAMP:20260421T160127
CREATED:20250402T130841Z
LAST-MODIFIED:20250402T130841Z
UID:167623-1748908800-1748995199@www.es-karlsruhe.eu
SUMMARY:P3Da & P3Db - Ausflug zum Botanischen Garten Karlsruhe
DESCRIPTION:
URL:https://www.es-karlsruhe.eu/de/event/p3da-p3db-ausflug-zum-botanischen-garten-karlsruhe/
CATEGORIES:Grundschule
END:VEVENT
BEGIN:VEVENT
DTSTART;TZID=Europe/Paris:20250603T110000
DTEND;TZID=Europe/Paris:20250603T151500
DTSTAMP:20260421T160127
CREATED:20241213T135413Z
LAST-MODIFIED:20241213T135425Z
UID:164016-1748948400-1748963700@www.es-karlsruhe.eu
SUMMARY:P2 - Zoomobil
DESCRIPTION:
URL:https://www.es-karlsruhe.eu/de/event/p2-zoomobil/
CATEGORIES:Grundschule
END:VEVENT
BEGIN:VEVENT
DTSTART;TZID=Europe/Paris:20250604T133000
DTEND;TZID=Europe/Paris:20250604T153000
DTSTAMP:20260421T160127
CREATED:20241213T140154Z
LAST-MODIFIED:20241213T140656Z
UID:164030-1749043800-1749051000@www.es-karlsruhe.eu
SUMMARY:Einstufungstests neue Schüler - Grading tests new pupils - Tests de niveau nouveaux élèves
DESCRIPTION:
URL:https://www.es-karlsruhe.eu/de/event/einstufungstests-neue-schuler-grading-tests-new-pupils-tests-de-niveau-nouveaux-eleves/
CATEGORIES:Grundschule
END:VEVENT
BEGIN:VEVENT
DTSTART;VALUE=DATE:20250605
DTEND;VALUE=DATE:20250606
DTSTAMP:20260421T160127
CREATED:20250402T130407Z
LAST-MODIFIED:20250402T130407Z
UID:167617-1749081600-1749167999@www.es-karlsruhe.eu
SUMMARY:P3E & P3F - Excursion to the Botanic Garden Karlsruhe
DESCRIPTION:
URL:https://www.es-karlsruhe.eu/de/event/p3e-p3f-excursion-to-the-botanic-garden-karlsruhe/
CATEGORIES:Grundschule
END:VEVENT
BEGIN:VEVENT
DTSTART;VALUE=DATE:20250609
DTEND;VALUE=DATE:20250610
DTSTAMP:20260421T160127
CREATED:20241028T091943Z
LAST-MODIFIED:20241028T092005Z
UID:162398-1749427200-1749513599@www.es-karlsruhe.eu
SUMMARY:Whit Monday / Pfingstmontag / Lundi de Pentecôte
DESCRIPTION:
URL:https://www.es-karlsruhe.eu/de/event/whit-monday-pfingstmontag-lundi-de-pentecote/
CATEGORIES:Grundschule,Kindergarten
END:VEVENT
BEGIN:VEVENT
DTSTART;TZID=Europe/Paris:20250610T110000
DTEND;TZID=Europe/Paris:20250610T151500
DTSTAMP:20260421T160127
CREATED:20241213T135707Z
LAST-MODIFIED:20241213T135707Z
UID:164022-1749553200-1749568500@www.es-karlsruhe.eu
SUMMARY:P2 Zoomobil
DESCRIPTION:
URL:https://www.es-karlsruhe.eu/de/event/p2-zoomobil-2/
CATEGORIES:Grundschule
END:VEVENT
BEGIN:VEVENT
DTSTART;VALUE=DATE:20250611
DTEND;VALUE=DATE:20250612
DTSTAMP:20260421T160127
CREATED:20250402T131515Z
LAST-MODIFIED:20250402T131515Z
UID:167627-1749600000-1749686399@www.es-karlsruhe.eu
SUMMARY:Section FR - "Les 3 chardons"
DESCRIPTION:
URL:https://www.es-karlsruhe.eu/de/event/section-fr-les-3-chardons/
CATEGORIES:Grundschule,Kindergarten
END:VEVENT
BEGIN:VEVENT
DTSTART;VALUE=DATE:20250616
DTEND;VALUE=DATE:20250617
DTSTAMP:20260421T160127
CREATED:20250402T131959Z
LAST-MODIFIED:20250402T131959Z
UID:167631-1750032000-1750118399@www.es-karlsruhe.eu
SUMMARY:P3 - Sportfest - Fête du Sport
DESCRIPTION:
URL:https://www.es-karlsruhe.eu/de/event/p3-sportfest-fete-du-sport/
CATEGORIES:Grundschule
END:VEVENT
BEGIN:VEVENT
DTSTART;VALUE=DATE:20250617
DTEND;VALUE=DATE:20250618
DTSTAMP:20260421T160127
CREATED:20250402T132114Z
LAST-MODIFIED:20250402T132114Z
UID:167635-1750118400-1750204799@www.es-karlsruhe.eu
SUMMARY:Section FR - Sortie à Wissembourg
DESCRIPTION:
URL:https://www.es-karlsruhe.eu/de/event/section-fr-sortie-a-wissembourg/
CATEGORIES:Grundschule
END:VEVENT
BEGIN:VEVENT
DTSTART;VALUE=DATE:20250617
DTEND;VALUE=DATE:20250618
DTSTAMP:20260421T160127
CREATED:20250402T132429Z
LAST-MODIFIED:20250402T132429Z
UID:167639-1750118400-1750204799@www.es-karlsruhe.eu
SUMMARY:P2E - Excursion to the Botanic Garden Karlsruhe
DESCRIPTION:
URL:https://www.es-karlsruhe.eu/de/event/p2e-excursion-to-the-botanic-garden-karlsruhe/
CATEGORIES:Grundschule
END:VEVENT
BEGIN:VEVENT
DTSTART;VALUE=DATE:20250618
DTEND;VALUE=DATE:20250619
DTSTAMP:20260421T160127
CREATED:20250402T132649Z
LAST-MODIFIED:20250402T134642Z
UID:167643-1750204800-1750291199@www.es-karlsruhe.eu
SUMMARY:P3 - Besuch vom Ökomobol-Visit of the Ökomobil-Visite de l'Ökomobil
DESCRIPTION:
URL:https://www.es-karlsruhe.eu/de/event/p3-besuch-von-okomobiol-visit-of-okomobil-visite-de-lokomobil/
CATEGORIES:Grundschule
END:VEVENT
BEGIN:VEVENT
DTSTART;VALUE=DATE:20250619
DTEND;VALUE=DATE:20250620
DTSTAMP:20260421T160127
CREATED:20241028T092235Z
LAST-MODIFIED:20241028T092255Z
UID:162404-1750291200-1750377599@www.es-karlsruhe.eu
SUMMARY:Corpus Christi / Fronleichnam / Fête-Dieu
DESCRIPTION:
URL:https://www.es-karlsruhe.eu/de/event/corpus-christi-fronleichnam-fete-dieu/
CATEGORIES:Grundschule,Kindergarten
END:VEVENT
BEGIN:VEVENT
DTSTART;VALUE=DATE:20250620
DTEND;VALUE=DATE:20250621
DTSTAMP:20260421T160127
CREATED:20250402T134133Z
LAST-MODIFIED:20250402T134133Z
UID:167651-1750377600-1750463999@www.es-karlsruhe.eu
SUMMARY:P4 - Sportfest - Fête du Sport
DESCRIPTION:
URL:https://www.es-karlsruhe.eu/de/event/p4-sportfest-fete-du-sport/
CATEGORIES:Grundschule
END:VEVENT
BEGIN:VEVENT
DTSTART;VALUE=DATE:20250620
DTEND;VALUE=DATE:20250621
DTSTAMP:20260421T160127
CREATED:20250402T134429Z
LAST-MODIFIED:20250402T134429Z
UID:167655-1750377600-1750463999@www.es-karlsruhe.eu
SUMMARY:P3 - Besuch vom Ökomobil-Visit of the Ökomobil-Visite de l'Ökomobil
DESCRIPTION:
URL:https://www.es-karlsruhe.eu/de/event/p3-besuch-vom-okomobil-visit-of-the-okomobil-visite-de-lokomobil/
CATEGORIES:Grundschule
END:VEVENT
BEGIN:VEVENT
DTSTART;TZID=Europe/Paris:20250620T080500
DTEND;TZID=Europe/Paris:20250620T100000
DTSTAMP:20260421T160127
CREATED:20250402T132814Z
LAST-MODIFIED:20250402T132814Z
UID:167647-1750406700-1750413600@www.es-karlsruhe.eu
SUMMARY:PA Café
DESCRIPTION:
URL:https://www.es-karlsruhe.eu/de/event/pa-cafe-9/
CATEGORIES:Grundschule,Kindergarten,Oberschule
END:VEVENT
BEGIN:VEVENT
DTSTART;VALUE=DATE:20250623
DTEND;VALUE=DATE:20250624
DTSTAMP:20260421T160127
CREATED:20250402T134810Z
LAST-MODIFIED:20250402T134810Z
UID:167662-1750636800-1750723199@www.es-karlsruhe.eu
SUMMARY:P5 - Sportfest-Fête du Sport
DESCRIPTION:
URL:https://www.es-karlsruhe.eu/de/event/p5-sportfest-fete-du-sport/
CATEGORIES:Grundschule
END:VEVENT
BEGIN:VEVENT
DTSTART;VALUE=DATE:20250626
DTEND;VALUE=DATE:20250627
DTSTAMP:20260421T160127
CREATED:20250402T135149Z
LAST-MODIFIED:20250402T135149Z
UID:167666-1750896000-1750982399@www.es-karlsruhe.eu
SUMMARY:P2Db - Besuch der Schlossfestspiele in Ettlingen
DESCRIPTION:
URL:https://www.es-karlsruhe.eu/de/event/p2db-besuch-der-schlossfestspiele-in-ettlingen/
CATEGORIES:Grundschule
END:VEVENT
BEGIN:VEVENT
DTSTART;TZID=Europe/Paris:20250627T103000
DTEND;TZID=Europe/Paris:20250627T120000
DTSTAMP:20260421T160127
CREATED:20250402T135339Z
LAST-MODIFIED:20250402T135339Z
UID:167670-1751020200-1751025600@www.es-karlsruhe.eu
SUMMARY:P5 - Graduation Ceremony
DESCRIPTION:
URL:https://www.es-karlsruhe.eu/de/event/p5-graduation-ceremony-2/
CATEGORIES:Grundschule
END:VEVENT
BEGIN:VEVENT
DTSTART;VALUE=DATE:20250628
DTEND;VALUE=DATE:20250629
DTSTAMP:20260421T160127
CREATED:20250402T135422Z
LAST-MODIFIED:20250402T135422Z
UID:167674-1751068800-1751155199@www.es-karlsruhe.eu
SUMMARY:JRC Summerfest
DESCRIPTION:
URL:https://www.es-karlsruhe.eu/de/event/jrc-summerfest/
CATEGORIES:Grundschule,Kindergarten,Oberschule
END:VEVENT
BEGIN:VEVENT
DTSTART;VALUE=DATE:20250629
DTEND;VALUE=DATE:20250630
DTSTAMP:20260421T160127
CREATED:20250402T135501Z
LAST-MODIFIED:20250402T135501Z
UID:167678-1751155200-1751241599@www.es-karlsruhe.eu
SUMMARY:ESK Summerfest
DESCRIPTION:
URL:https://www.es-karlsruhe.eu/de/event/esk-summerfest/
CATEGORIES:Grundschule,Kindergarten,Oberschule
END:VEVENT
END:VCALENDAR