BEGIN:VCALENDAR
VERSION:2.0
PRODID:-//European School Karlsruhe - ECPv6.15.20//NONSGML v1.0//EN
CALSCALE:GREGORIAN
METHOD:PUBLISH
X-WR-CALNAME:European School Karlsruhe
X-ORIGINAL-URL:https://www.es-karlsruhe.eu/de/
X-WR-CALDESC:Veranstaltungen für European School Karlsruhe
REFRESH-INTERVAL;VALUE=DURATION:PT1H
X-Robots-Tag:noindex
X-PUBLISHED-TTL:PT1H
BEGIN:VTIMEZONE
TZID:Europe/Paris
BEGIN:DAYLIGHT
TZOFFSETFROM:+0100
TZOFFSETTO:+0200
TZNAME:CEST
DTSTART:20210328T010000
END:DAYLIGHT
BEGIN:STANDARD
TZOFFSETFROM:+0200
TZOFFSETTO:+0100
TZNAME:CET
DTSTART:20211031T010000
END:STANDARD
BEGIN:DAYLIGHT
TZOFFSETFROM:+0100
TZOFFSETTO:+0200
TZNAME:CEST
DTSTART:20220327T010000
END:DAYLIGHT
BEGIN:STANDARD
TZOFFSETFROM:+0200
TZOFFSETTO:+0100
TZNAME:CET
DTSTART:20221030T010000
END:STANDARD
BEGIN:DAYLIGHT
TZOFFSETFROM:+0100
TZOFFSETTO:+0200
TZNAME:CEST
DTSTART:20230326T010000
END:DAYLIGHT
BEGIN:STANDARD
TZOFFSETFROM:+0200
TZOFFSETTO:+0100
TZNAME:CET
DTSTART:20231029T010000
END:STANDARD
END:VTIMEZONE
BEGIN:VEVENT
DTSTART;TZID=Europe/Paris:20220110T080000
DTEND;TZID=Europe/Paris:20220110T170000
DTSTAMP:20260426T030807
CREATED:20211220T074516Z
LAST-MODIFIED:20211220T081825Z
UID:106791-1641801600-1641834000@www.es-karlsruhe.eu
SUMMARY:First Day of School
DESCRIPTION:
URL:https://www.es-karlsruhe.eu/de/event/first-day-of-sschool/
CATEGORIES:Grundschule,Kindergarten,Oberschule
END:VEVENT
BEGIN:VEVENT
DTSTART;TZID=Europe/Paris:20220118T183000
DTEND;TZID=Europe/Paris:20220118T193000
DTSTAMP:20260426T030807
CREATED:20211220T075046Z
LAST-MODIFIED:20220118T124404Z
UID:106813-1642530600-1642534200@www.es-karlsruhe.eu
SUMMARY:ONLINE INFO EVENING 18.30 for new families
DESCRIPTION:Die Europäische Schule Karlsruhe lädt zu einem öffentlichen Infoabend am 18.01.2022 um 18.30Uhr für alle interessierte Eltern ein\, um unsere pädagogischen Ziele im Kindergarten\, in der Grundschule und Oberschule sowie das Anmeldeverfahren vorzustellen. Aufgrund der aktuellen Situation wird unsere Veranstaltung online stattfinden. Erfahren Sie mehr über die Europäische Schule Karlsruhe und wie Sie Ihr Kind anmelden können! \nThe European School of Karlsruhe invites all interested  to a public information evening on January\, 18th 2022 at 6.30 pm to present our educational aims in the Kindergarten\, Primary and Secondary School. Due to the  current situation\, our event will take place online. Join this event you will  learn more about the European School Karlsruhe and how to enroll your child! \nL´Ecole Européenne de Karlsruhe invite les personnes intéressées à une soirée d´information publique en ligne le 18.01.2022 à 18H30 pour présenter nos objectifs d´enseignement à l´école maternelle\, primaire et secondaire et nos conditions d´inscriptions. En raison des conditions sanitaires notre événement aura lieu en ligne \nFür Ihre Teilnahme Clicken Sie auf untenstehenden Link\, um  an der Besprechung direkt teilzunehmen \nIn order to participate please click on the link below\, to participate directly to the Online Information Evening \nPour participer à cet événement et en savoir plus sur notre école et comment inscrire votre enfant\,  veuillez cliquer sur le lien ci-dessous pour participer directement à notre soirée d´information publique en ligne \nInformation Evening Teams Online Meeting
URL:https://www.es-karlsruhe.eu/de/event/online-info-evening-18-30-for-new-families/
CATEGORIES:Grundschule,Kindergarten,Oberschule
END:VEVENT
BEGIN:VEVENT
DTSTART;VALUE=DATE:20220131
DTEND;VALUE=DATE:20220201
DTSTAMP:20260426T030807
CREATED:20211220T080115Z
LAST-MODIFIED:20211220T080136Z
UID:106855-1643587200-1643673599@www.es-karlsruhe.eu
SUMMARY:Start 2nd semester
DESCRIPTION:
URL:https://www.es-karlsruhe.eu/de/event/start-2nd-semester/
CATEGORIES:Grundschule,Kindergarten
END:VEVENT
END:VCALENDAR