BEGIN:VCALENDAR
VERSION:2.0
PRODID:-//European School Karlsruhe - ECPv6.15.20//NONSGML v1.0//EN
CALSCALE:GREGORIAN
METHOD:PUBLISH
X-WR-CALNAME:European School Karlsruhe
X-ORIGINAL-URL:https://www.es-karlsruhe.eu/de/
X-WR-CALDESC:Veranstaltungen für European School Karlsruhe
REFRESH-INTERVAL;VALUE=DURATION:PT1H
X-Robots-Tag:noindex
X-PUBLISHED-TTL:PT1H
BEGIN:VTIMEZONE
TZID:Europe/Paris
BEGIN:DAYLIGHT
TZOFFSETFROM:+0100
TZOFFSETTO:+0200
TZNAME:CEST
DTSTART:20210328T010000
END:DAYLIGHT
BEGIN:STANDARD
TZOFFSETFROM:+0200
TZOFFSETTO:+0100
TZNAME:CET
DTSTART:20211031T010000
END:STANDARD
BEGIN:DAYLIGHT
TZOFFSETFROM:+0100
TZOFFSETTO:+0200
TZNAME:CEST
DTSTART:20220327T010000
END:DAYLIGHT
BEGIN:STANDARD
TZOFFSETFROM:+0200
TZOFFSETTO:+0100
TZNAME:CET
DTSTART:20221030T010000
END:STANDARD
BEGIN:DAYLIGHT
TZOFFSETFROM:+0100
TZOFFSETTO:+0200
TZNAME:CEST
DTSTART:20230326T010000
END:DAYLIGHT
BEGIN:STANDARD
TZOFFSETFROM:+0200
TZOFFSETTO:+0100
TZNAME:CET
DTSTART:20231029T010000
END:STANDARD
END:VTIMEZONE
BEGIN:VEVENT
DTSTART;VALUE=DATE:20220602
DTEND;VALUE=DATE:20220603
DTSTAMP:20260425T193812
CREATED:20220510T103106Z
LAST-MODIFIED:20220510T103153Z
UID:112376-1654128000-1654214399@www.es-karlsruhe.eu
SUMMARY:Fototermin Kindergartenkinder
DESCRIPTION:
URL:https://www.es-karlsruhe.eu/de/event/fototermin-kindergartenkinder/
CATEGORIES:Kindergarten
END:VEVENT
BEGIN:VEVENT
DTSTART;VALUE=DATE:20220606
DTEND;VALUE=DATE:20220607
DTSTAMP:20260425T193812
CREATED:20220510T103254Z
LAST-MODIFIED:20220510T103421Z
UID:112382-1654473600-1654559999@www.es-karlsruhe.eu
SUMMARY:FEIERTAG Pfingstmontag
DESCRIPTION:
URL:https://www.es-karlsruhe.eu/de/event/feiertag-pfingstmontag/
CATEGORIES:Grundschule,Kindergarten,Oberschule
END:VEVENT
BEGIN:VEVENT
DTSTART;VALUE=DATE:20220616
DTEND;VALUE=DATE:20220617
DTSTAMP:20260425T193812
CREATED:20220510T104339Z
LAST-MODIFIED:20220510T104408Z
UID:112406-1655337600-1655423999@www.es-karlsruhe.eu
SUMMARY:FEIERTAG - Frohnleichnam
DESCRIPTION:
URL:https://www.es-karlsruhe.eu/de/event/feiertag-frohnleichnam/
CATEGORIES:Grundschule,Kindergarten,Oberschule
END:VEVENT
BEGIN:VEVENT
DTSTART;VALUE=DATE:20220626
DTEND;VALUE=DATE:20220627
DTSTAMP:20260425T193812
CREATED:20220510T105059Z
LAST-MODIFIED:20220510T105123Z
UID:112430-1656201600-1656287999@www.es-karlsruhe.eu
SUMMARY:ESK Sommerfest
DESCRIPTION:
URL:https://www.es-karlsruhe.eu/de/event/esk-sommerfest/
CATEGORIES:Grundschule,Kindergarten,Oberschule
END:VEVENT
END:VCALENDAR