BEGIN:VCALENDAR
VERSION:2.0
PRODID:-//European School Karlsruhe - ECPv6.15.20//NONSGML v1.0//EN
CALSCALE:GREGORIAN
METHOD:PUBLISH
X-ORIGINAL-URL:https://www.es-karlsruhe.eu/de/
X-WR-CALDESC:Veranstaltungen für European School Karlsruhe
REFRESH-INTERVAL;VALUE=DURATION:PT1H
X-Robots-Tag:noindex
X-PUBLISHED-TTL:PT1H
BEGIN:VTIMEZONE
TZID:Europe/Paris
BEGIN:DAYLIGHT
TZOFFSETFROM:+0100
TZOFFSETTO:+0200
TZNAME:CEST
DTSTART:20220327T010000
END:DAYLIGHT
BEGIN:STANDARD
TZOFFSETFROM:+0200
TZOFFSETTO:+0100
TZNAME:CET
DTSTART:20221030T010000
END:STANDARD
BEGIN:DAYLIGHT
TZOFFSETFROM:+0100
TZOFFSETTO:+0200
TZNAME:CEST
DTSTART:20230326T010000
END:DAYLIGHT
BEGIN:STANDARD
TZOFFSETFROM:+0200
TZOFFSETTO:+0100
TZNAME:CET
DTSTART:20231029T010000
END:STANDARD
BEGIN:DAYLIGHT
TZOFFSETFROM:+0100
TZOFFSETTO:+0200
TZNAME:CEST
DTSTART:20240331T010000
END:DAYLIGHT
BEGIN:STANDARD
TZOFFSETFROM:+0200
TZOFFSETTO:+0100
TZNAME:CET
DTSTART:20241027T010000
END:STANDARD
END:VTIMEZONE
BEGIN:VEVENT
DTSTART;VALUE=DATE:20231107
DTEND;VALUE=DATE:20231108
DTSTAMP:20260422T214228
CREATED:20231005T101827Z
LAST-MODIFIED:20231005T101827Z
UID:147909-1699315200-1699401599@www.es-karlsruhe.eu
SUMMARY:Classe forestière / Forest classroom\, 3F+5F+3E
DESCRIPTION:
URL:https://www.es-karlsruhe.eu/de/event/classe-forestiere-forest-classroom-3f5f3e/
CATEGORIES:Kindergarten,Grundschule
END:VEVENT
BEGIN:VEVENT
DTSTART;TZID=Europe/Paris:20231110T080000
DTEND;TZID=Europe/Paris:20231110T090000
DTSTAMP:20260422T214228
CREATED:20231106T154948Z
LAST-MODIFIED:20231108T112535Z
UID:149234-1699603200-1699606800@www.es-karlsruhe.eu
SUMMARY:Stay & Play Kindergarten
DESCRIPTION:
URL:https://www.es-karlsruhe.eu/de/event/stay-play-kindergarten/
CATEGORIES:Kindergarten
END:VEVENT
BEGIN:VEVENT
DTSTART;TZID=Europe/Paris:20231110T081500
DTEND;TZID=Europe/Paris:20231110T100000
DTSTAMP:20260422T214228
CREATED:20231005T101942Z
LAST-MODIFIED:20231005T101942Z
UID:147912-1699604100-1699610400@www.es-karlsruhe.eu
SUMMARY:PA Café\, 8.15 -10 Uhr\, Schulkantine
DESCRIPTION:
URL:https://www.es-karlsruhe.eu/de/event/pa-cafe-8-15-10-uhr-schulkantine-2/
CATEGORIES:Kindergarten,Grundschule
END:VEVENT
BEGIN:VEVENT
DTSTART;VALUE=DATE:20231113
DTEND;VALUE=DATE:20231114
DTSTAMP:20260422T214228
CREATED:20231005T102139Z
LAST-MODIFIED:20231005T102139Z
UID:147916-1699833600-1699919999@www.es-karlsruhe.eu
SUMMARY:Start November Talks in der Grundschule
DESCRIPTION:
URL:https://www.es-karlsruhe.eu/de/event/start-november-talks-in-der-grundschule-2/
CATEGORIES:Kindergarten,Grundschule
END:VEVENT
BEGIN:VEVENT
DTSTART;VALUE=DATE:20231114
DTEND;VALUE=DATE:20231115
DTSTAMP:20260422T214228
CREATED:20231005T102656Z
LAST-MODIFIED:20231005T102656Z
UID:147918-1699920000-1700006399@www.es-karlsruhe.eu
SUMMARY:Stufe P5: Besuch Technikmuseum Speyer / Speyer Technology Museum visit / Visitez le musée technologique de Spire
DESCRIPTION:
URL:https://www.es-karlsruhe.eu/de/event/stufe-p5-besuch-technikmuseum-speyer-speyer-technology-museum-visit-visitez-le-musee-technologique-de-spire/
CATEGORIES:Kindergarten,Grundschule
END:VEVENT
BEGIN:VEVENT
DTSTART;VALUE=DATE:20231114
DTEND;VALUE=DATE:20231115
DTSTAMP:20260422T214228
CREATED:20231026T115545Z
LAST-MODIFIED:20231026T115545Z
UID:148878-1699920000-1700006399@www.es-karlsruhe.eu
SUMMARY:3F Besuch Klärwerk Karlsruhe\, 9-12 Uhr
DESCRIPTION:
URL:https://www.es-karlsruhe.eu/de/event/3f-besuch-klarwerk-karlsruhe-9-12-uhr/
CATEGORIES:Grundschule,Kindergarten
END:VEVENT
BEGIN:VEVENT
DTSTART;VALUE=DATE:20231121
DTEND;VALUE=DATE:20231122
DTSTAMP:20260422T214228
CREATED:20231117T123346Z
LAST-MODIFIED:20231117T123346Z
UID:149655-1700524800-1700611199@www.es-karlsruhe.eu
SUMMARY:Erziehungsrat Grundschule\, 16.00 Uhr EDC
DESCRIPTION:
URL:https://www.es-karlsruhe.eu/de/event/erziehungsrat-grundschule-16-00-uhr-edc/
CATEGORIES:Grundschule,Kindergarten
END:VEVENT
BEGIN:VEVENT
DTSTART;VALUE=DATE:20231121
DTEND;VALUE=DATE:20231122
DTSTAMP:20260422T214228
CREATED:20231127T143122Z
LAST-MODIFIED:20231127T143304Z
UID:149767-1700524800-1700611199@www.es-karlsruhe.eu
SUMMARY:04:00 pm Education Council Primary in EDC
DESCRIPTION:
URL:https://www.es-karlsruhe.eu/de/event/0400-pm-education-council-edc/
CATEGORIES:Kindergarten,Grundschule
END:VEVENT
BEGIN:VEVENT
DTSTART;VALUE=DATE:20231123
DTEND;VALUE=DATE:20231124
DTSTAMP:20260422T214228
CREATED:20231113T125338Z
LAST-MODIFIED:20231113T131256Z
UID:149470-1700697600-1700783999@www.es-karlsruhe.eu
SUMMARY:KGE  -  American library
DESCRIPTION:
URL:https://www.es-karlsruhe.eu/de/event/kge-american-library-2/
CATEGORIES:Kindergarten,Grundschule
END:VEVENT
BEGIN:VEVENT
DTSTART;VALUE=DATE:20231130
DTEND;VALUE=DATE:20231201
DTSTAMP:20260422T214228
CREATED:20231005T102859Z
LAST-MODIFIED:20231005T102859Z
UID:147922-1701302400-1701388799@www.es-karlsruhe.eu
SUMMARY:End of the November talks
DESCRIPTION:
URL:https://www.es-karlsruhe.eu/de/event/end-of-the-november-talks/
CATEGORIES:Kindergarten,Grundschule
END:VEVENT
BEGIN:VEVENT
DTSTART;VALUE=DATE:20231130
DTEND;VALUE=DATE:20231201
DTSTAMP:20260422T214228
CREATED:20231128T133433Z
LAST-MODIFIED:20231128T134332Z
UID:149892-1701302400-1701388799@www.es-karlsruhe.eu
SUMMARY:Nursery: Dental health promotion visits
DESCRIPTION:
URL:https://www.es-karlsruhe.eu/de/event/dental-health-promotion-visits/
CATEGORIES:Kindergarten
END:VEVENT
END:VCALENDAR