BEGIN:VCALENDAR
VERSION:2.0
PRODID:-//European School Karlsruhe - ECPv6.15.20//NONSGML v1.0//EN
CALSCALE:GREGORIAN
METHOD:PUBLISH
X-WR-CALNAME:European School Karlsruhe
X-ORIGINAL-URL:https://www.es-karlsruhe.eu/de/
X-WR-CALDESC:Veranstaltungen für European School Karlsruhe
REFRESH-INTERVAL;VALUE=DURATION:PT1H
X-Robots-Tag:noindex
X-PUBLISHED-TTL:PT1H
BEGIN:VTIMEZONE
TZID:Europe/Paris
BEGIN:DAYLIGHT
TZOFFSETFROM:+0100
TZOFFSETTO:+0200
TZNAME:CEST
DTSTART:20220327T010000
END:DAYLIGHT
BEGIN:STANDARD
TZOFFSETFROM:+0200
TZOFFSETTO:+0100
TZNAME:CET
DTSTART:20221030T010000
END:STANDARD
BEGIN:DAYLIGHT
TZOFFSETFROM:+0100
TZOFFSETTO:+0200
TZNAME:CEST
DTSTART:20230326T010000
END:DAYLIGHT
BEGIN:STANDARD
TZOFFSETFROM:+0200
TZOFFSETTO:+0100
TZNAME:CET
DTSTART:20231029T010000
END:STANDARD
BEGIN:DAYLIGHT
TZOFFSETFROM:+0100
TZOFFSETTO:+0200
TZNAME:CEST
DTSTART:20240331T010000
END:DAYLIGHT
BEGIN:STANDARD
TZOFFSETFROM:+0200
TZOFFSETTO:+0100
TZNAME:CET
DTSTART:20241027T010000
END:STANDARD
END:VTIMEZONE
BEGIN:VEVENT
DTSTART;VALUE=DATE:20231201
DTEND;VALUE=DATE:20231202
DTSTAMP:20260422T214140
CREATED:20231005T103240Z
LAST-MODIFIED:20231005T103240Z
UID:148880-1701388800-1701475199@www.es-karlsruhe.eu
SUMMARY:PA Café\, 8.15 -10 Uhr\, Schulkantine
DESCRIPTION:
URL:https://www.es-karlsruhe.eu/de/event/pa-cafe-8-15-10-uhr-schulkantine-3/
CATEGORIES:Grundschule,Kindergarten
END:VEVENT
BEGIN:VEVENT
DTSTART;VALUE=DATE:20231201
DTEND;VALUE=DATE:20231202
DTSTAMP:20260422T214140
CREATED:20231128T134818Z
LAST-MODIFIED:20231128T134818Z
UID:149899-1701388800-1701475199@www.es-karlsruhe.eu
SUMMARY:Nursery: Dental health promotion visits
DESCRIPTION:
URL:https://www.es-karlsruhe.eu/de/event/nursery-dental-health-promotion-visits/
CATEGORIES:Kindergarten
END:VEVENT
BEGIN:VEVENT
DTSTART;VALUE=DATE:20231212
DTEND;VALUE=DATE:20231213
DTSTAMP:20260422T214140
CREATED:20231005T103522Z
LAST-MODIFIED:20231026T115934Z
UID:148882-1702339200-1702425599@www.es-karlsruhe.eu
SUMMARY:P2-Stufe: Spiele zum Thema Messen / Games - measuring / Jeux sur la mesure\, 13 Uhr
DESCRIPTION:
URL:https://www.es-karlsruhe.eu/de/event/p2-stufe-spiele-zum-thema-messen-games-measuring-jeux-sur-la-mesure-13-uhr/
CATEGORIES:Grundschule,Kindergarten
END:VEVENT
BEGIN:VEVENT
DTSTART;VALUE=DATE:20231219
DTEND;VALUE=DATE:20231220
DTSTAMP:20260422T214140
CREATED:20231005T103728Z
LAST-MODIFIED:20231026T120031Z
UID:148886-1702944000-1703030399@www.es-karlsruhe.eu
SUMMARY:Stufe P2: Weihnachtsbasteln\, Dezemberkonzert / Christmas crafts\, December concert / Bricolages de Noël\, concert de décembre P1+P2
DESCRIPTION:
URL:https://www.es-karlsruhe.eu/de/event/stufe-p2-weihnachtsbasteln-dezemberkonzert-christmas-crafts-december-concert-bricolages-de-noel-concert-de-decembre-p1p2/
CATEGORIES:Grundschule,Kindergarten
END:VEVENT
BEGIN:VEVENT
DTSTART;VALUE=DATE:20231219
DTEND;VALUE=DATE:20231220
DTSTAMP:20260422T214140
CREATED:20231128T144725Z
LAST-MODIFIED:20231129T100922Z
UID:149919-1702944000-1703030399@www.es-karlsruhe.eu
SUMMARY:Christmas Party Kindergarten
DESCRIPTION:
URL:https://www.es-karlsruhe.eu/de/event/christmas-party-kindergarten/
CATEGORIES:Kindergarten
END:VEVENT
BEGIN:VEVENT
DTSTART;VALUE=DATE:20231221
DTEND;VALUE=DATE:20231222
DTSTAMP:20260422T214140
CREATED:20231005T103830Z
LAST-MODIFIED:20231026T120130Z
UID:148890-1703116800-1703203199@www.es-karlsruhe.eu
SUMMARY:Dezemberkonzert / December concert / Concert de décembre P3\, P4\, P5
DESCRIPTION:
URL:https://www.es-karlsruhe.eu/de/event/dezemberkonzert-december-concert-concert-de-decembre-p3-p4-p5/
CATEGORIES:Grundschule,Kindergarten
END:VEVENT
BEGIN:VEVENT
DTSTART;VALUE=DATE:20231225
DTEND;VALUE=DATE:20231226
DTSTAMP:20260422T214140
CREATED:20231005T104029Z
LAST-MODIFIED:20231026T120722Z
UID:148896-1703462400-1703548799@www.es-karlsruhe.eu
SUMMARY:1. Weihnachtstag / Christmas Day / le jour de Noël
DESCRIPTION:
URL:https://www.es-karlsruhe.eu/de/event/1-weihnachtstag-christmas-day-le-jour-de-noel/
CATEGORIES:Grundschule,Kindergarten
END:VEVENT
BEGIN:VEVENT
DTSTART;VALUE=DATE:20231226
DTEND;VALUE=DATE:20231227
DTSTAMP:20260422T214140
CREATED:20231005T104107Z
LAST-MODIFIED:20231005T104107Z
UID:148894-1703548800-1703635199@www.es-karlsruhe.eu
SUMMARY:2. Weihnachtstag / Christmas Day / le jour de Noël
DESCRIPTION:
URL:https://www.es-karlsruhe.eu/de/event/2-weihnachtstag-christmas-day-le-jour-de-noel/
CATEGORIES:Grundschule,Kindergarten
END:VEVENT
BEGIN:VEVENT
DTSTART;VALUE=DATE:20231231
DTEND;VALUE=DATE:20240101
DTSTAMP:20260422T214140
CREATED:20231005T104243Z
LAST-MODIFIED:20231005T104243Z
UID:148900-1703980800-1704067199@www.es-karlsruhe.eu
SUMMARY:Silvester / New Year's Eve / réveillon de Nouvel an
DESCRIPTION:
URL:https://www.es-karlsruhe.eu/de/event/silvester-new-years-eve-reveillon-de-nouvel-an/
CATEGORIES:Grundschule,Kindergarten
END:VEVENT
END:VCALENDAR