BEGIN:VCALENDAR
VERSION:2.0
PRODID:-//European School Karlsruhe - ECPv6.15.20//NONSGML v1.0//EN
CALSCALE:GREGORIAN
METHOD:PUBLISH
X-WR-CALNAME:European School Karlsruhe
X-ORIGINAL-URL:https://www.es-karlsruhe.eu/fr/
X-WR-CALDESC:Évènements pour European School Karlsruhe
REFRESH-INTERVAL;VALUE=DURATION:PT1H
X-Robots-Tag:noindex
X-PUBLISHED-TTL:PT1H
BEGIN:VTIMEZONE
TZID:Europe/Paris
BEGIN:DAYLIGHT
TZOFFSETFROM:+0100
TZOFFSETTO:+0200
TZNAME:CEST
DTSTART:20220327T010000
END:DAYLIGHT
BEGIN:STANDARD
TZOFFSETFROM:+0200
TZOFFSETTO:+0100
TZNAME:CET
DTSTART:20221030T010000
END:STANDARD
BEGIN:DAYLIGHT
TZOFFSETFROM:+0100
TZOFFSETTO:+0200
TZNAME:CEST
DTSTART:20230326T010000
END:DAYLIGHT
BEGIN:STANDARD
TZOFFSETFROM:+0200
TZOFFSETTO:+0100
TZNAME:CET
DTSTART:20231029T010000
END:STANDARD
BEGIN:DAYLIGHT
TZOFFSETFROM:+0100
TZOFFSETTO:+0200
TZNAME:CEST
DTSTART:20240331T010000
END:DAYLIGHT
BEGIN:STANDARD
TZOFFSETFROM:+0200
TZOFFSETTO:+0100
TZNAME:CET
DTSTART:20241027T010000
END:STANDARD
END:VTIMEZONE
BEGIN:VEVENT
DTSTART;VALUE=DATE:20230601
DTEND;VALUE=DATE:20230602
DTSTAMP:20260423T023220
CREATED:20230522T114125Z
LAST-MODIFIED:20230522T114204Z
UID:143213-1685577600-1685663999@www.es-karlsruhe.eu
SUMMARY:Zoo-Besuch Kindergarten EN
DESCRIPTION:
URL:https://www.es-karlsruhe.eu/fr/event/zoo-besuch-kindergarten-en/
CATEGORIES:Maternelle
END:VEVENT
BEGIN:VEVENT
DTSTART;VALUE=DATE:20230602
DTEND;VALUE=DATE:20230603
DTSTAMP:20260423T023220
CREATED:20230522T114241Z
LAST-MODIFIED:20230522T114241Z
UID:143215-1685664000-1685750399@www.es-karlsruhe.eu
SUMMARY:Sportfest Kindegarten
DESCRIPTION:
URL:https://www.es-karlsruhe.eu/fr/event/sportfest-kindegarten/
CATEGORIES:Maternelle
END:VEVENT
BEGIN:VEVENT
DTSTART;VALUE=DATE:20230620
DTEND;VALUE=DATE:20230621
DTSTAMP:20260423T023220
CREATED:20230522T120521Z
LAST-MODIFIED:20230522T120521Z
UID:143504-1687219200-1687305599@www.es-karlsruhe.eu
SUMMARY:Ausflug in den Zoo - 2F
DESCRIPTION:
URL:https://www.es-karlsruhe.eu/fr/event/ausflug-in-den-zoo-2f/
CATEGORIES:Maternelle
END:VEVENT
END:VCALENDAR