BEGIN:VCALENDAR
VERSION:2.0
PRODID:-//European School Karlsruhe - ECPv6.15.20//NONSGML v1.0//EN
CALSCALE:GREGORIAN
METHOD:PUBLISH
X-ORIGINAL-URL:https://www.es-karlsruhe.eu/fr/
X-WR-CALDESC:Évènements pour European School Karlsruhe
REFRESH-INTERVAL;VALUE=DURATION:PT1H
X-Robots-Tag:noindex
X-PUBLISHED-TTL:PT1H
BEGIN:VTIMEZONE
TZID:Europe/Berlin
BEGIN:DAYLIGHT
TZOFFSETFROM:+0100
TZOFFSETTO:+0200
TZNAME:CEST
DTSTART:20210328T010000
END:DAYLIGHT
BEGIN:STANDARD
TZOFFSETFROM:+0200
TZOFFSETTO:+0100
TZNAME:CET
DTSTART:20211031T010000
END:STANDARD
BEGIN:DAYLIGHT
TZOFFSETFROM:+0100
TZOFFSETTO:+0200
TZNAME:CEST
DTSTART:20220327T010000
END:DAYLIGHT
BEGIN:STANDARD
TZOFFSETFROM:+0200
TZOFFSETTO:+0100
TZNAME:CET
DTSTART:20221030T010000
END:STANDARD
BEGIN:DAYLIGHT
TZOFFSETFROM:+0100
TZOFFSETTO:+0200
TZNAME:CEST
DTSTART:20230326T010000
END:DAYLIGHT
BEGIN:STANDARD
TZOFFSETFROM:+0200
TZOFFSETTO:+0100
TZNAME:CET
DTSTART:20231029T010000
END:STANDARD
END:VTIMEZONE
BEGIN:VTIMEZONE
TZID:Europe/Paris
BEGIN:DAYLIGHT
TZOFFSETFROM:+0100
TZOFFSETTO:+0200
TZNAME:CEST
DTSTART:20210328T010000
END:DAYLIGHT
BEGIN:STANDARD
TZOFFSETFROM:+0200
TZOFFSETTO:+0100
TZNAME:CET
DTSTART:20211031T010000
END:STANDARD
BEGIN:DAYLIGHT
TZOFFSETFROM:+0100
TZOFFSETTO:+0200
TZNAME:CEST
DTSTART:20220327T010000
END:DAYLIGHT
BEGIN:STANDARD
TZOFFSETFROM:+0200
TZOFFSETTO:+0100
TZNAME:CET
DTSTART:20221030T010000
END:STANDARD
BEGIN:DAYLIGHT
TZOFFSETFROM:+0100
TZOFFSETTO:+0200
TZNAME:CEST
DTSTART:20230326T010000
END:DAYLIGHT
BEGIN:STANDARD
TZOFFSETFROM:+0200
TZOFFSETTO:+0100
TZNAME:CET
DTSTART:20231029T010000
END:STANDARD
END:VTIMEZONE
BEGIN:VEVENT
DTSTART;VALUE=DATE:20220530
DTEND;VALUE=DATE:20220604
DTSTAMP:20260425T210745
CREATED:20210921T085350Z
LAST-MODIFIED:20211221T015759Z
UID:102019-1653868800-1654300799@www.es-karlsruhe.eu
SUMMARY:S5 Semesterprüfungen
DESCRIPTION:
URL:https://www.es-karlsruhe.eu/fr/event/s5-semesterprufungen-3/
CATEGORIES:Secondaire
END:VEVENT
BEGIN:VEVENT
DTSTART;VALUE=DATE:20220530
DTEND;VALUE=DATE:20220611
DTSTAMP:20260425T210745
CREATED:20211116T140941Z
LAST-MODIFIED:20211221T015759Z
UID:104722-1653868800-1654905599@www.es-karlsruhe.eu
SUMMARY:BAC exams / Prüfungen / Examens
DESCRIPTION:
URL:https://www.es-karlsruhe.eu/fr/event/bac-exams-prufungen-examens-3/
CATEGORIES:Secondaire
END:VEVENT
BEGIN:VEVENT
DTSTART;VALUE=DATE:20220606
DTEND;VALUE=DATE:20220607
DTSTAMP:20260425T210745
CREATED:20220510T103254Z
LAST-MODIFIED:20220510T103422Z
UID:112385-1654473600-1654559999@www.es-karlsruhe.eu
SUMMARY:FEIERTAG Pfingstmontag
DESCRIPTION:
URL:https://www.es-karlsruhe.eu/fr/event/feiertag-pfingstmontag/
CATEGORIES:Maternelle,Primaire,Secondaire
END:VEVENT
BEGIN:VEVENT
DTSTART;VALUE=DATE:20220607
DTEND;VALUE=DATE:20220618
DTSTAMP:20260425T210745
CREATED:20210921T085350Z
LAST-MODIFIED:20211221T015759Z
UID:102020-1654560000-1655510399@www.es-karlsruhe.eu
SUMMARY:S6 Semesterprüfungen
DESCRIPTION:
URL:https://www.es-karlsruhe.eu/fr/event/s6-semesterprufungen-3/
CATEGORIES:Secondaire
END:VEVENT
BEGIN:VEVENT
DTSTART;VALUE=DATE:20220613
DTEND;VALUE=DATE:20220624
DTSTAMP:20260425T210745
CREATED:20210921T085350Z
LAST-MODIFIED:20211221T015759Z
UID:102021-1655078400-1656028799@www.es-karlsruhe.eu
SUMMARY:S5 Praktikum
DESCRIPTION:
URL:https://www.es-karlsruhe.eu/fr/event/s5-praktikum-3/
CATEGORIES:Secondaire
END:VEVENT
BEGIN:VEVENT
DTSTART;VALUE=DATE:20220616
DTEND;VALUE=DATE:20220617
DTSTAMP:20260425T210745
CREATED:20220510T104339Z
LAST-MODIFIED:20220510T104409Z
UID:112409-1655337600-1655423999@www.es-karlsruhe.eu
SUMMARY:FEIERTAG - Frohnleichnam
DESCRIPTION:
URL:https://www.es-karlsruhe.eu/fr/event/feiertag-frohnleichnam/
CATEGORIES:Maternelle,Primaire,Secondaire
END:VEVENT
BEGIN:VEVENT
DTSTART;VALUE=DATE:20220624
DTEND;VALUE=DATE:20220625
DTSTAMP:20260425T210745
CREATED:20210921T085351Z
LAST-MODIFIED:20211221T015759Z
UID:102022-1656028800-1656115199@www.es-karlsruhe.eu
SUMMARY:S5 Praktikum Präsentationen
DESCRIPTION:
URL:https://www.es-karlsruhe.eu/fr/event/s5-praktikum-prasentationen/
CATEGORIES:Secondaire
END:VEVENT
BEGIN:VEVENT
DTSTART;VALUE=DATE:20220624
DTEND;VALUE=DATE:20220625
DTSTAMP:20260425T210745
CREATED:20210921T085351Z
LAST-MODIFIED:20211221T015800Z
UID:102023-1656028800-1656115199@www.es-karlsruhe.eu
SUMMARY:S1-S6 Reports / Zeugnisse / Bulletins
DESCRIPTION:
URL:https://www.es-karlsruhe.eu/fr/event/s1-s6-reports-zeugnisse-bulletins-2/
CATEGORIES:Secondaire
END:VEVENT
BEGIN:VEVENT
DTSTART;VALUE=DATE:20220626
DTEND;VALUE=DATE:20220627
DTSTAMP:20260425T210745
CREATED:20220510T105059Z
LAST-MODIFIED:20220510T105123Z
UID:112433-1656201600-1656287999@www.es-karlsruhe.eu
SUMMARY:ESK Sommerfest
DESCRIPTION:
URL:https://www.es-karlsruhe.eu/fr/event/esk-sommerfest/
CATEGORIES:Maternelle,Primaire,Secondaire
END:VEVENT
END:VCALENDAR