BEGIN:VCALENDAR
VERSION:2.0
PRODID:-//European School Karlsruhe - ECPv6.15.20//NONSGML v1.0//EN
CALSCALE:GREGORIAN
METHOD:PUBLISH
X-ORIGINAL-URL:https://www.es-karlsruhe.eu/fr/
X-WR-CALDESC:Évènements pour European School Karlsruhe
REFRESH-INTERVAL;VALUE=DURATION:PT1H
X-Robots-Tag:noindex
X-PUBLISHED-TTL:PT1H
BEGIN:VTIMEZONE
TZID:Europe/Paris
BEGIN:DAYLIGHT
TZOFFSETFROM:+0100
TZOFFSETTO:+0200
TZNAME:CEST
DTSTART:20230326T010000
END:DAYLIGHT
BEGIN:STANDARD
TZOFFSETFROM:+0200
TZOFFSETTO:+0100
TZNAME:CET
DTSTART:20231029T010000
END:STANDARD
BEGIN:DAYLIGHT
TZOFFSETFROM:+0100
TZOFFSETTO:+0200
TZNAME:CEST
DTSTART:20240331T010000
END:DAYLIGHT
BEGIN:STANDARD
TZOFFSETFROM:+0200
TZOFFSETTO:+0100
TZNAME:CET
DTSTART:20241027T010000
END:STANDARD
BEGIN:DAYLIGHT
TZOFFSETFROM:+0100
TZOFFSETTO:+0200
TZNAME:CEST
DTSTART:20250330T010000
END:DAYLIGHT
BEGIN:STANDARD
TZOFFSETFROM:+0200
TZOFFSETTO:+0100
TZNAME:CET
DTSTART:20251026T010000
END:STANDARD
END:VTIMEZONE
BEGIN:VEVENT
DTSTART;TZID=Europe/Paris:20240116T183000
DTEND;TZID=Europe/Paris:20240116T203000
DTSTAMP:20260422T184908
CREATED:20230922T071613Z
LAST-MODIFIED:20240112T122910Z
UID:148905-1705429800-1705437000@www.es-karlsruhe.eu
SUMMARY:Information evening for new interested families\, 6.30 pm via Teams (online)\, Informationsabend für neue interessierte Familien\, 18.30 Uhr über Teams (online)\, Soirée d'information pour les nouvelles familles intéressées\, 18h30 via Teams (en ligne)
DESCRIPTION:
URL:https://www.es-karlsruhe.eu/fr/event/information-evening-for-new-families/
CATEGORIES:Maternelle,Primaire,Secondaire
END:VEVENT
BEGIN:VEVENT
DTSTART;VALUE=DATE:20240119
DTEND;VALUE=DATE:20240120
DTSTAMP:20260422T184908
CREATED:20231010T130558Z
LAST-MODIFIED:20231010T130631Z
UID:148243-1705622400-1705708799@www.es-karlsruhe.eu
SUMMARY:S4-S6  reports / Zeugnisse / Bulletins
DESCRIPTION:
URL:https://www.es-karlsruhe.eu/fr/event/s4-s6-reports-zeugnisse-bulletins/
CATEGORIES:Secondaire
END:VEVENT
BEGIN:VEVENT
DTSTART;VALUE=DATE:20240122
DTEND;VALUE=DATE:20240202
DTSTAMP:20260422T184908
CREATED:20231010T130110Z
LAST-MODIFIED:20231010T130126Z
UID:148231-1705881600-1706831999@www.es-karlsruhe.eu
SUMMARY:S7 PréBAC
DESCRIPTION:
URL:https://www.es-karlsruhe.eu/fr/event/s7-prebac-2/
CATEGORIES:Secondaire
END:VEVENT
BEGIN:VEVENT
DTSTART;VALUE=DATE:20240126
DTEND;VALUE=DATE:20240127
DTSTAMP:20260422T184908
CREATED:20231010T130457Z
LAST-MODIFIED:20231010T130513Z
UID:148237-1706227200-1706313599@www.es-karlsruhe.eu
SUMMARY:S1-S3  reports / Zeugnisse / Bulletins
DESCRIPTION:
URL:https://www.es-karlsruhe.eu/fr/event/s1-s3-reports-zeugnisse-bulletins/
CATEGORIES:Secondaire
END:VEVENT
END:VCALENDAR