BEGIN:VCALENDAR
VERSION:2.0
PRODID:-//European School Karlsruhe - ECPv6.15.20//NONSGML v1.0//EN
CALSCALE:GREGORIAN
METHOD:PUBLISH
X-WR-CALNAME:European School Karlsruhe
X-ORIGINAL-URL:https://www.es-karlsruhe.eu/fr/
X-WR-CALDESC:Évènements pour European School Karlsruhe
REFRESH-INTERVAL;VALUE=DURATION:PT1H
X-Robots-Tag:noindex
X-PUBLISHED-TTL:PT1H
BEGIN:VTIMEZONE
TZID:Europe/Paris
BEGIN:DAYLIGHT
TZOFFSETFROM:+0100
TZOFFSETTO:+0200
TZNAME:CEST
DTSTART:20230326T010000
END:DAYLIGHT
BEGIN:STANDARD
TZOFFSETFROM:+0200
TZOFFSETTO:+0100
TZNAME:CET
DTSTART:20231029T010000
END:STANDARD
BEGIN:DAYLIGHT
TZOFFSETFROM:+0100
TZOFFSETTO:+0200
TZNAME:CEST
DTSTART:20240331T010000
END:DAYLIGHT
BEGIN:STANDARD
TZOFFSETFROM:+0200
TZOFFSETTO:+0100
TZNAME:CET
DTSTART:20241027T010000
END:STANDARD
BEGIN:DAYLIGHT
TZOFFSETFROM:+0100
TZOFFSETTO:+0200
TZNAME:CEST
DTSTART:20250330T010000
END:DAYLIGHT
BEGIN:STANDARD
TZOFFSETFROM:+0200
TZOFFSETTO:+0100
TZNAME:CET
DTSTART:20251026T010000
END:STANDARD
END:VTIMEZONE
BEGIN:VEVENT
DTSTART;VALUE=DATE:20240122
DTEND;VALUE=DATE:20240202
DTSTAMP:20260422T171415
CREATED:20231010T130110Z
LAST-MODIFIED:20231010T130126Z
UID:148231-1705881600-1706831999@www.es-karlsruhe.eu
SUMMARY:S7 PréBAC
DESCRIPTION:
URL:https://www.es-karlsruhe.eu/fr/event/s7-prebac-2/
CATEGORIES:Secondaire
END:VEVENT
BEGIN:VEVENT
DTSTART;VALUE=DATE:20240202
DTEND;VALUE=DATE:20240203
DTSTAMP:20260422T171415
CREATED:20240115T124507Z
LAST-MODIFIED:20240115T125640Z
UID:151283-1706832000-1706918399@www.es-karlsruhe.eu
SUMMARY:PA Café
DESCRIPTION:
URL:https://www.es-karlsruhe.eu/fr/event/pa-cafe-2/
CATEGORIES:Maternelle,Primaire,Secondaire
END:VEVENT
BEGIN:VEVENT
DTSTART;VALUE=DATE:20240209
DTEND;VALUE=DATE:20240210
DTSTAMP:20260422T171415
CREATED:20231010T130718Z
LAST-MODIFIED:20231010T130734Z
UID:148249-1707436800-1707523199@www.es-karlsruhe.eu
SUMMARY:S7 reports / Zeugnisse / Bulletins
DESCRIPTION:
URL:https://www.es-karlsruhe.eu/fr/event/s7-reports-zeugnisse-bulletins-2/
CATEGORIES:Secondaire
END:VEVENT
BEGIN:VEVENT
DTSTART;VALUE=DATE:20240227
DTEND;VALUE=DATE:20240228
DTSTAMP:20260422T171416
CREATED:20240130T142500Z
LAST-MODIFIED:20240130T143724Z
UID:151829-1708992000-1709078399@www.es-karlsruhe.eu
SUMMARY:15.45-17.00 PA Social - French Chandeleur
DESCRIPTION:
URL:https://www.es-karlsruhe.eu/fr/event/15-45-17-00-pa-social-french-chandeleur/
CATEGORIES:Maternelle,Primaire,Secondaire
END:VEVENT
END:VCALENDAR