BEGIN:VCALENDAR
VERSION:2.0
PRODID:-//European School Karlsruhe - ECPv6.15.20//NONSGML v1.0//EN
CALSCALE:GREGORIAN
METHOD:PUBLISH
X-ORIGINAL-URL:https://www.es-karlsruhe.eu/fr/
X-WR-CALDESC:Évènements pour European School Karlsruhe
REFRESH-INTERVAL;VALUE=DURATION:PT1H
X-Robots-Tag:noindex
X-PUBLISHED-TTL:PT1H
BEGIN:VTIMEZONE
TZID:Europe/Paris
BEGIN:DAYLIGHT
TZOFFSETFROM:+0100
TZOFFSETTO:+0200
TZNAME:CEST
DTSTART:20230326T010000
END:DAYLIGHT
BEGIN:STANDARD
TZOFFSETFROM:+0200
TZOFFSETTO:+0100
TZNAME:CET
DTSTART:20231029T010000
END:STANDARD
BEGIN:DAYLIGHT
TZOFFSETFROM:+0100
TZOFFSETTO:+0200
TZNAME:CEST
DTSTART:20240331T010000
END:DAYLIGHT
BEGIN:STANDARD
TZOFFSETFROM:+0200
TZOFFSETTO:+0100
TZNAME:CET
DTSTART:20241027T010000
END:STANDARD
BEGIN:DAYLIGHT
TZOFFSETFROM:+0100
TZOFFSETTO:+0200
TZNAME:CEST
DTSTART:20250330T010000
END:DAYLIGHT
BEGIN:STANDARD
TZOFFSETFROM:+0200
TZOFFSETTO:+0100
TZNAME:CET
DTSTART:20251026T010000
END:STANDARD
END:VTIMEZONE
BEGIN:VEVENT
DTSTART;VALUE=DATE:20240309
DTEND;VALUE=DATE:20240310
DTSTAMP:20260422T153408
CREATED:20230922T071835Z
LAST-MODIFIED:20230922T071835Z
UID:147374-1709942400-1710028799@www.es-karlsruhe.eu
SUMMARY:Open day
DESCRIPTION:
URL:https://www.es-karlsruhe.eu/fr/event/open-day/
CATEGORIES:Maternelle,Primaire,Secondaire
END:VEVENT
BEGIN:VEVENT
DTSTART;TZID=Europe/Paris:20240309T093000
DTEND;TZID=Europe/Paris:20240309T140000
DTSTAMP:20260422T153408
CREATED:20231010T080329Z
LAST-MODIFIED:20231010T080344Z
UID:148187-1709976600-1709992800@www.es-karlsruhe.eu
SUMMARY:Tag der offenen Tür/Open Day/Journée portes ouvertes
DESCRIPTION:
URL:https://www.es-karlsruhe.eu/fr/event/tag-der-offenen-tur-open-day-journee-portes-ouvertes-3/
CATEGORIES:Maternelle,Primaire,Secondaire
END:VEVENT
BEGIN:VEVENT
DTSTART;VALUE=DATE:20240314
DTEND;VALUE=DATE:20240315
DTSTAMP:20260422T153408
CREATED:20240205T152552Z
LAST-MODIFIED:20240205T152647Z
UID:152044-1710374400-1710460799@www.es-karlsruhe.eu
SUMMARY:15.45 - 17.00     PA Social Greek/Spanish
DESCRIPTION:
URL:https://www.es-karlsruhe.eu/fr/event/15-45-17-00-pa-social-greek-spanish/
CATEGORIES:Maternelle,Primaire,Secondaire
END:VEVENT
END:VCALENDAR