BEGIN:VCALENDAR
VERSION:2.0
PRODID:-//European School Karlsruhe - ECPv6.15.20//NONSGML v1.0//EN
CALSCALE:GREGORIAN
METHOD:PUBLISH
X-ORIGINAL-URL:https://www.es-karlsruhe.eu/fr/
X-WR-CALDESC:Évènements pour European School Karlsruhe
REFRESH-INTERVAL;VALUE=DURATION:PT1H
X-Robots-Tag:noindex
X-PUBLISHED-TTL:PT1H
BEGIN:VTIMEZONE
TZID:Europe/Paris
BEGIN:DAYLIGHT
TZOFFSETFROM:+0100
TZOFFSETTO:+0200
TZNAME:CEST
DTSTART:20230326T010000
END:DAYLIGHT
BEGIN:STANDARD
TZOFFSETFROM:+0200
TZOFFSETTO:+0100
TZNAME:CET
DTSTART:20231029T010000
END:STANDARD
BEGIN:DAYLIGHT
TZOFFSETFROM:+0100
TZOFFSETTO:+0200
TZNAME:CEST
DTSTART:20240331T010000
END:DAYLIGHT
BEGIN:STANDARD
TZOFFSETFROM:+0200
TZOFFSETTO:+0100
TZNAME:CET
DTSTART:20241027T010000
END:STANDARD
BEGIN:DAYLIGHT
TZOFFSETFROM:+0100
TZOFFSETTO:+0200
TZNAME:CEST
DTSTART:20250330T010000
END:DAYLIGHT
BEGIN:STANDARD
TZOFFSETFROM:+0200
TZOFFSETTO:+0100
TZNAME:CET
DTSTART:20251026T010000
END:STANDARD
END:VTIMEZONE
BEGIN:VEVENT
DTSTART;VALUE=DATE:20240412
DTEND;VALUE=DATE:20240413
DTSTAMP:20260422T135716
CREATED:20240124T125230Z
LAST-MODIFIED:20240124T125230Z
UID:151640-1712880000-1712966399@www.es-karlsruhe.eu
SUMMARY:PA Café
DESCRIPTION:
URL:https://www.es-karlsruhe.eu/fr/event/pa-cafe-4/
CATEGORIES:Maternelle,Primaire,Secondaire
END:VEVENT
BEGIN:VEVENT
DTSTART;VALUE=DATE:20240425
DTEND;VALUE=DATE:20240426
DTSTAMP:20260422T135716
CREATED:20240205T152906Z
LAST-MODIFIED:20240205T152906Z
UID:152051-1714003200-1714089599@www.es-karlsruhe.eu
SUMMARY:15.45 - 17.00 PA Social Portuguese / Brazilian
DESCRIPTION:
URL:https://www.es-karlsruhe.eu/fr/event/15-45-17-00-pa-social-portuguese-brazilian/
CATEGORIES:Maternelle,Primaire,Secondaire
END:VEVENT
END:VCALENDAR