BEGIN:VCALENDAR
VERSION:2.0
PRODID:-//European School Karlsruhe - ECPv6.15.20//NONSGML v1.0//EN
CALSCALE:GREGORIAN
METHOD:PUBLISH
X-WR-CALNAME:European School Karlsruhe
X-ORIGINAL-URL:https://www.es-karlsruhe.eu/fr/
X-WR-CALDESC:Évènements pour European School Karlsruhe
REFRESH-INTERVAL;VALUE=DURATION:PT1H
X-Robots-Tag:noindex
X-PUBLISHED-TTL:PT1H
BEGIN:VTIMEZONE
TZID:Europe/Berlin
BEGIN:DAYLIGHT
TZOFFSETFROM:+0100
TZOFFSETTO:+0200
TZNAME:CEST
DTSTART:20180325T010000
END:DAYLIGHT
BEGIN:STANDARD
TZOFFSETFROM:+0200
TZOFFSETTO:+0100
TZNAME:CET
DTSTART:20181028T010000
END:STANDARD
BEGIN:DAYLIGHT
TZOFFSETFROM:+0100
TZOFFSETTO:+0200
TZNAME:CEST
DTSTART:20190331T010000
END:DAYLIGHT
BEGIN:STANDARD
TZOFFSETFROM:+0200
TZOFFSETTO:+0100
TZNAME:CET
DTSTART:20191027T010000
END:STANDARD
BEGIN:DAYLIGHT
TZOFFSETFROM:+0100
TZOFFSETTO:+0200
TZNAME:CEST
DTSTART:20200329T010000
END:DAYLIGHT
BEGIN:STANDARD
TZOFFSETFROM:+0200
TZOFFSETTO:+0100
TZNAME:CET
DTSTART:20201025T010000
END:STANDARD
END:VTIMEZONE
BEGIN:VTIMEZONE
TZID:Europe/Paris
BEGIN:DAYLIGHT
TZOFFSETFROM:+0100
TZOFFSETTO:+0200
TZNAME:CEST
DTSTART:20180325T010000
END:DAYLIGHT
BEGIN:STANDARD
TZOFFSETFROM:+0200
TZOFFSETTO:+0100
TZNAME:CET
DTSTART:20181028T010000
END:STANDARD
BEGIN:DAYLIGHT
TZOFFSETFROM:+0100
TZOFFSETTO:+0200
TZNAME:CEST
DTSTART:20190331T010000
END:DAYLIGHT
BEGIN:STANDARD
TZOFFSETFROM:+0200
TZOFFSETTO:+0100
TZNAME:CET
DTSTART:20191027T010000
END:STANDARD
BEGIN:DAYLIGHT
TZOFFSETFROM:+0100
TZOFFSETTO:+0200
TZNAME:CEST
DTSTART:20200329T010000
END:DAYLIGHT
BEGIN:STANDARD
TZOFFSETFROM:+0200
TZOFFSETTO:+0100
TZNAME:CET
DTSTART:20201025T010000
END:STANDARD
END:VTIMEZONE
BEGIN:VEVENT
DTSTART;TZID=Europe/Berlin:20191001T154500
DTEND;TZID=Europe/Berlin:20191001T164500
DTSTAMP:20260420T222509
CREATED:20190909T082034Z
LAST-MODIFIED:20191001T233515Z
UID:56655-1569944700-1569948300@www.es-karlsruhe.eu
SUMMARY:Meet & Greet / PA / Elternvereinigung
DESCRIPTION:
URL:https://www.es-karlsruhe.eu/fr/event/meet-greet-pa-elternvereinigung/
LOCATION:Kantine
CATEGORIES:Secondaire
END:VEVENT
BEGIN:VEVENT
DTSTART;TZID=Europe/Berlin:20191001T180000
DTEND;TZID=Europe/Berlin:20191001T210000
DTSTAMP:20260420T222509
CREATED:20190906T072021Z
LAST-MODIFIED:20191001T233515Z
UID:56325-1569952800-1569963600@www.es-karlsruhe.eu
SUMMARY:Elternabend / Parents' Evening / Soirèe de Parents S4-S6
DESCRIPTION:
URL:https://www.es-karlsruhe.eu/fr/event/elternabend-parents-evening-soiree-de-parents-s4-s6/
CATEGORIES:Secondaire
END:VEVENT
BEGIN:VEVENT
DTSTART;TZID=Europe/Paris:20191007T080000
DTEND;TZID=Europe/Paris:20191011T190000
DTSTAMP:20260420T222509
CREATED:20191007T145849Z
LAST-MODIFIED:20191007T145849Z
UID:60169-1570435200-1570820400@www.es-karlsruhe.eu
SUMMARY:CLASSES VERTES du 7 au 11.10.2019
DESCRIPTION:Les 3es ainsi que la 4F sont partis en classe vertes à Quieux le Saulcy.
URL:https://www.es-karlsruhe.eu/fr/event/classes-vertes-du-7-au-11-10-2019/
CATEGORIES:Primaire
END:VEVENT
BEGIN:VEVENT
DTSTART;TZID=Europe/Paris:20191011T080000
DTEND;TZID=Europe/Paris:20191011T100000
DTSTAMP:20260420T222509
CREATED:20191008T104621Z
LAST-MODIFIED:20191008T104621Z
UID:60307-1570780800-1570788000@www.es-karlsruhe.eu
SUMMARY:Schulrallye
DESCRIPTION:pour les classes 2 et 5 le 11.102019 de 8.20 à 9.40 h
URL:https://www.es-karlsruhe.eu/fr/event/schulrallye/
CATEGORIES:Primaire
END:VEVENT
BEGIN:VEVENT
DTSTART;TZID=Europe/Paris:20191018T080000
DTEND;TZID=Europe/Paris:20191018T100000
DTSTAMP:20260420T222509
CREATED:20191008T105543Z
LAST-MODIFIED:20191008T105543Z
UID:60317-1571385600-1571392800@www.es-karlsruhe.eu
SUMMARY:Schulrallye classes 1 et 4
DESCRIPTION:organisé le 18.10.2019 de 8.20 à 9.40 h
URL:https://www.es-karlsruhe.eu/fr/event/schulrallye-classes-1-et-4/
CATEGORIES:Primaire
END:VEVENT
BEGIN:VEVENT
DTSTART;TZID=Europe/Paris:20191022T180000
DTEND;TZID=Europe/Paris:20191022T203000
DTSTAMP:20260420T222509
CREATED:20191007T150414Z
LAST-MODIFIED:20191008T123552Z
UID:60172-1571767200-1571776200@www.es-karlsruhe.eu
SUMMARY:Soirée d'information à 18.00 h - Aula
DESCRIPTION:Une réunion d’information concernant l’organisation du soutien éducatif est organisée le 22.10.2019 à 18.00 h\, salle des fêtes.
URL:https://www.es-karlsruhe.eu/fr/event/soiree-dinformation-a-18-00-h-aula/
CATEGORIES:Maternelle,Primaire
END:VEVENT
BEGIN:VEVENT
DTSTART;TZID=Europe/Berlin:20191022T180000
DTEND;TZID=Europe/Berlin:20191022T210000
DTSTAMP:20260420T222509
CREATED:20191008T065020Z
LAST-MODIFIED:20191022T232039Z
UID:60249-1571767200-1571778000@www.es-karlsruhe.eu
SUMMARY:Educational Support : information evening for parents - 22.10.2019
DESCRIPTION:
URL:https://www.es-karlsruhe.eu/fr/event/educational-support-information-evening-for-parents-22-10-2019/
LOCATION:Aula
CATEGORIES:Secondaire
END:VEVENT
END:VCALENDAR